BEGIN:VCALENDAR
VERSION:2.0
PRODID:-//Balefire Wealth - ECPv6.15.20//NONSGML v1.0//EN
CALSCALE:GREGORIAN
METHOD:PUBLISH
X-WR-CALNAME:Balefire Wealth
X-ORIGINAL-URL:https://balefirewealth.com
X-WR-CALDESC:Events for Balefire Wealth
REFRESH-INTERVAL;VALUE=DURATION:PT1H
X-Robots-Tag:noindex
X-PUBLISHED-TTL:PT1H
BEGIN:VTIMEZONE
TZID:America/Chicago
BEGIN:DAYLIGHT
TZOFFSETFROM:-0600
TZOFFSETTO:-0500
TZNAME:CDT
DTSTART:20250309T080000
END:DAYLIGHT
BEGIN:STANDARD
TZOFFSETFROM:-0500
TZOFFSETTO:-0600
TZNAME:CST
DTSTART:20251102T070000
END:STANDARD
BEGIN:DAYLIGHT
TZOFFSETFROM:-0600
TZOFFSETTO:-0500
TZNAME:CDT
DTSTART:20260308T080000
END:DAYLIGHT
BEGIN:STANDARD
TZOFFSETFROM:-0500
TZOFFSETTO:-0600
TZNAME:CST
DTSTART:20261101T070000
END:STANDARD
BEGIN:DAYLIGHT
TZOFFSETFROM:-0600
TZOFFSETTO:-0500
TZNAME:CDT
DTSTART:20270314T080000
END:DAYLIGHT
BEGIN:STANDARD
TZOFFSETFROM:-0500
TZOFFSETTO:-0600
TZNAME:CST
DTSTART:20271107T070000
END:STANDARD
END:VTIMEZONE
BEGIN:VEVENT
DTSTART;TZID=America/Chicago:20260409T000000
DTEND;TZID=America/Chicago:20260413T235959
DTSTAMP:20260423T055944
CREATED:20260320T015640Z
LAST-MODIFIED:20260320T015640Z
UID:10005302-1775692800-1776124799@balefirewealth.com
SUMMARY:Susan Westerholm Out of Office (04/09/2026)
DESCRIPTION:Susan Westerholm will be out of the office from 04/09/2026 to 04/13/2026.
URL:https://balefirewealth.com/event/susan-westerholm-out-of-office-04-09-2026/
CATEGORIES:Out of Office
END:VEVENT
BEGIN:VEVENT
DTSTART;TZID=America/Chicago:20260414T000000
DTEND;TZID=America/Chicago:20260414T235959
DTSTAMP:20260423T055944
CREATED:20260107T043144Z
LAST-MODIFIED:20260107T043144Z
UID:10005226-1776124800-1776211199@balefirewealth.com
SUMMARY:Sue Marsh Out of Office (04/14/2026)
DESCRIPTION:Sue Marsh will be out of the office from 04/14/2026 to 04/14/2026.
URL:https://balefirewealth.com/event/sue-marsh-out-of-office-04-14-2026/
CATEGORIES:Out of Office
END:VEVENT
BEGIN:VEVENT
DTSTART;TZID=America/Chicago:20260417T000000
DTEND;TZID=America/Chicago:20260417T235959
DTSTAMP:20260423T055944
CREATED:20260410T145210Z
LAST-MODIFIED:20260422T202530Z
UID:10005316-1776384000-1776470399@balefirewealth.com
SUMMARY:Christina Steigauf Out of Office (04/17/2026)
DESCRIPTION:Christina Steigauf will be out of the office from 04/17/2026 to 04/17/2026.
URL:https://balefirewealth.com/event/christina-steigauf-out-of-office-04-17-2026/
CATEGORIES:Out of Office
END:VEVENT
BEGIN:VEVENT
DTSTART;TZID=America/Chicago:20260418T000000
DTEND;TZID=America/Chicago:20260418T235959
DTSTAMP:20260423T055944
CREATED:20260409T205123Z
LAST-MODIFIED:20260422T202525Z
UID:10005314-1776470400-1776556799@balefirewealth.com
SUMMARY:Christina Steigauf Out of Office (04/18/2026)
DESCRIPTION:Christina Steigauf will be out of the office from 04/18/2026 to 04/18/2026.
URL:https://balefirewealth.com/event/christina-steigauf-out-of-office-04-18-2026/
CATEGORIES:Out of Office
END:VEVENT
END:VCALENDAR