BEGIN:VCALENDAR
VERSION:2.0
PRODID:-//Balefire Wealth - ECPv6.15.20//NONSGML v1.0//EN
CALSCALE:GREGORIAN
METHOD:PUBLISH
X-WR-CALNAME:Balefire Wealth
X-ORIGINAL-URL:https://balefirewealth.com
X-WR-CALDESC:Events for Balefire Wealth
REFRESH-INTERVAL;VALUE=DURATION:PT1H
X-Robots-Tag:noindex
X-PUBLISHED-TTL:PT1H
BEGIN:VTIMEZONE
TZID:America/Chicago
BEGIN:DAYLIGHT
TZOFFSETFROM:-0600
TZOFFSETTO:-0500
TZNAME:CDT
DTSTART:20250309T080000
END:DAYLIGHT
BEGIN:STANDARD
TZOFFSETFROM:-0500
TZOFFSETTO:-0600
TZNAME:CST
DTSTART:20251102T070000
END:STANDARD
BEGIN:DAYLIGHT
TZOFFSETFROM:-0600
TZOFFSETTO:-0500
TZNAME:CDT
DTSTART:20260308T080000
END:DAYLIGHT
BEGIN:STANDARD
TZOFFSETFROM:-0500
TZOFFSETTO:-0600
TZNAME:CST
DTSTART:20261101T070000
END:STANDARD
BEGIN:DAYLIGHT
TZOFFSETFROM:-0600
TZOFFSETTO:-0500
TZNAME:CDT
DTSTART:20270314T080000
END:DAYLIGHT
BEGIN:STANDARD
TZOFFSETFROM:-0500
TZOFFSETTO:-0600
TZNAME:CST
DTSTART:20271107T070000
END:STANDARD
END:VTIMEZONE
BEGIN:VEVENT
DTSTART;TZID=America/Chicago:20260402T000000
DTEND;TZID=America/Chicago:20260406T235959
DTSTAMP:20260421T114408
CREATED:20260228T002103Z
LAST-MODIFIED:20260228T002103Z
UID:10005288-1775088000-1775519999@balefirewealth.com
SUMMARY:Veronica Germann Out of Office (04/02/2026)
DESCRIPTION:Veronica Germann will be out of the office from 04/02/2026 to 04/06/2026.
URL:https://balefirewealth.com/event/veronica-germann-out-of-office-04-02-2026/
CATEGORIES:Out of Office
END:VEVENT
BEGIN:VEVENT
DTSTART;TZID=America/Chicago:20260402T000000
DTEND;TZID=America/Chicago:20260406T235959
DTSTAMP:20260421T114408
CREATED:20260313T183456Z
LAST-MODIFIED:20260313T183456Z
UID:10005301-1775088000-1775519999@balefirewealth.com
SUMMARY:Erin Ovre Out of Office (04/02/2026)
DESCRIPTION:Erin Ovre will be out of the office from 04/02/2026 to 04/06/2026.
URL:https://balefirewealth.com/event/erin-ovre-out-of-office-04-02-2026/
CATEGORIES:Out of Office
END:VEVENT
BEGIN:VEVENT
DTSTART;TZID=America/Chicago:20260406T000000
DTEND;TZID=America/Chicago:20260406T235959
DTSTAMP:20260421T114408
CREATED:20250929T195521Z
LAST-MODIFIED:20250929T195521Z
UID:10005111-1775433600-1775519999@balefirewealth.com
SUMMARY:Jeanne Dortch Out of Office (04/06/2026)
DESCRIPTION:Jeanne Dortch will be out of the office from 04/06/2026 to 04/06/2026.
URL:https://balefirewealth.com/event/jeanne-dortch-out-of-office-04-06-2026/
CATEGORIES:Out of Office
END:VEVENT
BEGIN:VEVENT
DTSTART;TZID=America/Chicago:20260406T000000
DTEND;TZID=America/Chicago:20260406T235959
DTSTAMP:20260421T114408
CREATED:20260403T145127Z
LAST-MODIFIED:20260403T145127Z
UID:10005309-1775433600-1775519999@balefirewealth.com
SUMMARY:Alana Tallarico Out of Office (04/06/2026)
DESCRIPTION:Alana Tallarico will be out of the office from 04/06/2026 to 04/06/2026.
URL:https://balefirewealth.com/event/alana-tallarico-out-of-office-04-06-2026/
CATEGORIES:Out of Office
END:VEVENT
BEGIN:VEVENT
DTSTART;TZID=America/Chicago:20260406T000000
DTEND;TZID=America/Chicago:20260410T235959
DTSTAMP:20260421T114408
CREATED:20260323T185202Z
LAST-MODIFIED:20260330T131853Z
UID:10005306-1775433600-1775865599@balefirewealth.com
SUMMARY:Ryan Smeltzer Out of Office (04/06/2026)
DESCRIPTION:Ryan Smeltzer will be out of the office from 04/06/2026 to 04/10/2026.
URL:https://balefirewealth.com/event/ryan-smeltzer-out-of-office-04-06-2026/
CATEGORIES:Out of Office
END:VEVENT
BEGIN:VEVENT
DTSTART;TZID=America/Chicago:20260407T000000
DTEND;TZID=America/Chicago:20260407T235959
DTSTAMP:20260421T114408
CREATED:20260327T003826Z
LAST-MODIFIED:20260327T003826Z
UID:10005308-1775520000-1775606399@balefirewealth.com
SUMMARY:Erin Ovre Out of Office (04/07/2026)
DESCRIPTION:Erin Ovre will be out of the office from 04/07/2026 to 04/07/2026.
URL:https://balefirewealth.com/event/erin-ovre-out-of-office-04-07-2026/
CATEGORIES:Out of Office
END:VEVENT
BEGIN:VEVENT
DTSTART;TZID=America/Chicago:20260407T000000
DTEND;TZID=America/Chicago:20260409T235959
DTSTAMP:20260421T114408
CREATED:20260323T185126Z
LAST-MODIFIED:20260323T185126Z
UID:10005305-1775520000-1775779199@balefirewealth.com
SUMMARY:Stephen Kinsley Out of Office (04/07/2026)
DESCRIPTION:Stephen Kinsley will be out of the office from 04/07/2026 to 04/09/2026.
URL:https://balefirewealth.com/event/stephen-kinsley-out-of-office-04-07-2026/
CATEGORIES:Out of Office
END:VEVENT
BEGIN:VEVENT
DTSTART;TZID=America/Chicago:20260409T000000
DTEND;TZID=America/Chicago:20260413T235959
DTSTAMP:20260421T114408
CREATED:20260320T015640Z
LAST-MODIFIED:20260320T015640Z
UID:10005302-1775692800-1776124799@balefirewealth.com
SUMMARY:Susan Westerholm Out of Office (04/09/2026)
DESCRIPTION:Susan Westerholm will be out of the office from 04/09/2026 to 04/13/2026.
URL:https://balefirewealth.com/event/susan-westerholm-out-of-office-04-09-2026/
CATEGORIES:Out of Office
END:VEVENT
BEGIN:VEVENT
DTSTART;TZID=America/Chicago:20260410T000000
DTEND;TZID=America/Chicago:20260410T235959
DTSTAMP:20260421T114408
CREATED:20250311T185518Z
LAST-MODIFIED:20260330T141227Z
UID:10004604-1775779200-1775865599@balefirewealth.com
SUMMARY:Kendra Foster Work Anniversary
DESCRIPTION:
URL:https://balefirewealth.com/event/kendra-foster-work-anniversary/2026-04-10/
CATEGORIES:Work Anniversaries
ATTACH;FMTTYPE=image/webp:https://balefirewealth.com/wp-content/uploads/2025/10/foster-kendra.webp
END:VEVENT
BEGIN:VEVENT
DTSTART;TZID=America/Chicago:20260410T000000
DTEND;TZID=America/Chicago:20260410T235959
DTSTAMP:20260421T114408
CREATED:20260406T171317Z
LAST-MODIFIED:20260408T191233Z
UID:10005312-1775779200-1775865599@balefirewealth.com
SUMMARY:Julie Lang Out of Office (04/10/2026)
DESCRIPTION:Julie Lang will be out of the office from 04/10/2026 to 04/10/2026.
URL:https://balefirewealth.com/event/julie-lang-out-of-office-04-10-2026/
CATEGORIES:Out of Office
END:VEVENT
END:VCALENDAR