BEGIN:VCALENDAR
VERSION:2.0
PRODID:-//Balefire Wealth - ECPv6.15.20//NONSGML v1.0//EN
CALSCALE:GREGORIAN
METHOD:PUBLISH
X-ORIGINAL-URL:https://balefirewealth.com
X-WR-CALDESC:Events for Balefire Wealth
REFRESH-INTERVAL;VALUE=DURATION:PT1H
X-Robots-Tag:noindex
X-PUBLISHED-TTL:PT1H
BEGIN:VTIMEZONE
TZID:America/Chicago
BEGIN:DAYLIGHT
TZOFFSETFROM:-0600
TZOFFSETTO:-0500
TZNAME:CDT
DTSTART:20250309T080000
END:DAYLIGHT
BEGIN:STANDARD
TZOFFSETFROM:-0500
TZOFFSETTO:-0600
TZNAME:CST
DTSTART:20251102T070000
END:STANDARD
BEGIN:DAYLIGHT
TZOFFSETFROM:-0600
TZOFFSETTO:-0500
TZNAME:CDT
DTSTART:20260308T080000
END:DAYLIGHT
BEGIN:STANDARD
TZOFFSETFROM:-0500
TZOFFSETTO:-0600
TZNAME:CST
DTSTART:20261101T070000
END:STANDARD
BEGIN:DAYLIGHT
TZOFFSETFROM:-0600
TZOFFSETTO:-0500
TZNAME:CDT
DTSTART:20270314T080000
END:DAYLIGHT
BEGIN:STANDARD
TZOFFSETFROM:-0500
TZOFFSETTO:-0600
TZNAME:CST
DTSTART:20271107T070000
END:STANDARD
END:VTIMEZONE
BEGIN:VEVENT
DTSTART;TZID=America/Chicago:20260319T000000
DTEND;TZID=America/Chicago:20260320T235959
DTSTAMP:20260425T155715
CREATED:20260303T002130Z
LAST-MODIFIED:20260303T002130Z
UID:10005293-1773878400-1774051199@balefirewealth.com
SUMMARY:Christina Steigauf Out of Office (03/19/2026)
DESCRIPTION:Christina Steigauf will be out of the office from 03/19/2026 to 03/20/2026.
URL:https://balefirewealth.com/event/christina-steigauf-out-of-office-03-19-2026-2/
CATEGORIES:Out of Office
END:VEVENT
BEGIN:VEVENT
DTSTART;TZID=America/Chicago:20260319T000000
DTEND;TZID=America/Chicago:20260322T235959
DTSTAMP:20260425T155715
CREATED:20260304T214431Z
LAST-MODIFIED:20260304T214431Z
UID:10005297-1773878400-1774223999@balefirewealth.com
SUMMARY:Robin Dehoyos Out of Office (03/19/2026)
DESCRIPTION:Robin Dehoyos will be out of the office from 03/19/2026 to 03/22/2026.
URL:https://balefirewealth.com/event/robin-dehoyos-out-of-office-03-19-2026/
CATEGORIES:Out of Office
END:VEVENT
BEGIN:VEVENT
DTSTART;TZID=America/Chicago:20260319T000000
DTEND;TZID=America/Chicago:20260326T235959
DTSTAMP:20260425T155715
CREATED:20260121T040022Z
LAST-MODIFIED:20260121T040022Z
UID:10005234-1773878400-1774569599@balefirewealth.com
SUMMARY:Julie Lang Out of Office (03/19/2026)
DESCRIPTION:Julie Lang will be out of the office from 03/19/2026 to 03/26/2026.
URL:https://balefirewealth.com/event/julie-lang-out-of-office-03-19-2026/
CATEGORIES:Out of Office
END:VEVENT
BEGIN:VEVENT
DTSTART;TZID=America/Chicago:20260320T000000
DTEND;TZID=America/Chicago:20260320T235959
DTSTAMP:20260425T155715
CREATED:20260312T173838Z
LAST-MODIFIED:20260312T173838Z
UID:10005299-1773964800-1774051199@balefirewealth.com
SUMMARY:Ginger Perry Out of Office (03/20/2026)
DESCRIPTION:Ginger Perry will be out of the office from 03/20/2026 to 03/20/2026.
URL:https://balefirewealth.com/event/ginger-perry-out-of-office-03-20-2026/
CATEGORIES:Out of Office
END:VEVENT
BEGIN:VEVENT
DTSTART;TZID=America/Chicago:20260321T000000
DTEND;TZID=America/Chicago:20260321T235959
DTSTAMP:20260425T155715
CREATED:20250311T172226Z
LAST-MODIFIED:20260330T141526Z
UID:10003980-1774051200-1774137599@balefirewealth.com
SUMMARY:Amber Rogers Work Anniversary
DESCRIPTION:
URL:https://balefirewealth.com/event/amber-rogers-work-anniversary/2026-03-21/
CATEGORIES:Work Anniversaries
ATTACH;FMTTYPE=image/webp:https://balefirewealth.com/wp-content/uploads/2026/03/amber-rogers-centered-square.webp
END:VEVENT
END:VCALENDAR