BEGIN:VCALENDAR
VERSION:2.0
PRODID:-//Balefire Wealth - ECPv6.15.20//NONSGML v1.0//EN
CALSCALE:GREGORIAN
METHOD:PUBLISH
X-WR-CALNAME:Balefire Wealth
X-ORIGINAL-URL:https://balefirewealth.com
X-WR-CALDESC:Events for Balefire Wealth
REFRESH-INTERVAL;VALUE=DURATION:PT1H
X-Robots-Tag:noindex
X-PUBLISHED-TTL:PT1H
BEGIN:VTIMEZONE
TZID:America/Chicago
BEGIN:DAYLIGHT
TZOFFSETFROM:-0600
TZOFFSETTO:-0500
TZNAME:CDT
DTSTART:20240310T080000
END:DAYLIGHT
BEGIN:STANDARD
TZOFFSETFROM:-0500
TZOFFSETTO:-0600
TZNAME:CST
DTSTART:20241103T070000
END:STANDARD
BEGIN:DAYLIGHT
TZOFFSETFROM:-0600
TZOFFSETTO:-0500
TZNAME:CDT
DTSTART:20250309T080000
END:DAYLIGHT
BEGIN:STANDARD
TZOFFSETFROM:-0500
TZOFFSETTO:-0600
TZNAME:CST
DTSTART:20251102T070000
END:STANDARD
BEGIN:DAYLIGHT
TZOFFSETFROM:-0600
TZOFFSETTO:-0500
TZNAME:CDT
DTSTART:20260308T080000
END:DAYLIGHT
BEGIN:STANDARD
TZOFFSETFROM:-0500
TZOFFSETTO:-0600
TZNAME:CST
DTSTART:20261101T070000
END:STANDARD
END:VTIMEZONE
BEGIN:VEVENT
DTSTART;TZID=America/Chicago:20250505T000000
DTEND;TZID=America/Chicago:20250505T235959
DTSTAMP:20260422T054541
CREATED:20250429T181714Z
LAST-MODIFIED:20250429T181714Z
UID:10005041-1746403200-1746489599@balefirewealth.com
SUMMARY:Katie Enloe Out of Office (05/05/2025)
DESCRIPTION:Katie Enloe will be out of the office from 05/05/2025 to 05/05/2025.
URL:https://balefirewealth.com/event/katie-enloe-out-of-office-05-05-2025/
CATEGORIES:Out of Office
END:VEVENT
BEGIN:VEVENT
DTSTART;TZID=America/Chicago:20250506T000000
DTEND;TZID=America/Chicago:20250506T235959
DTSTAMP:20260422T054541
CREATED:20250311T172655Z
LAST-MODIFIED:20260330T141523Z
UID:10003993-1746489600-1746575999@balefirewealth.com
SUMMARY:Amy Batta Work Anniversary
DESCRIPTION:
URL:https://balefirewealth.com/event/amy-batta-work-anniversary/2025-05-06/
CATEGORIES:Work Anniversaries
ATTACH;FMTTYPE=image/webp:https://balefirewealth.com/wp-content/uploads/2026/03/amy-batta-square.webp
END:VEVENT
BEGIN:VEVENT
DTSTART;TZID=America/Chicago:20250506T080000
DTEND;TZID=America/Chicago:20250506T170000
DTSTAMP:20260422T054541
CREATED:20250311T173503Z
LAST-MODIFIED:20260330T141520Z
UID:10004019-1746518400-1746550800@balefirewealth.com
SUMMARY:Austin Vanhove Work Anniversary
DESCRIPTION:
URL:https://balefirewealth.com/event/austin-vanhove-work-anniversary/2025-05-06/
CATEGORIES:Work Anniversaries
ATTACH;FMTTYPE=image/webp:https://balefirewealth.com/wp-content/uploads/2025/10/vanhove-austin.webp
END:VEVENT
BEGIN:VEVENT
DTSTART;TZID=America/Chicago:20250507T000000
DTEND;TZID=America/Chicago:20250508T235959
DTSTAMP:20260422T054541
CREATED:20250429T181804Z
LAST-MODIFIED:20250429T181804Z
UID:10005042-1746576000-1746748799@balefirewealth.com
SUMMARY:Katie Enloe Out of Office (05/07/2025)
DESCRIPTION:Katie Enloe will be out of the office from 05/07/2025 to 05/08/2025.
URL:https://balefirewealth.com/event/katie-enloe-out-of-office-05-07-2025/
CATEGORIES:Out of Office
END:VEVENT
BEGIN:VEVENT
DTSTART;TZID=America/Chicago:20250508T000000
DTEND;TZID=America/Chicago:20250508T235959
DTSTAMP:20260422T054541
CREATED:20250311T182540Z
LAST-MODIFIED:20260330T133530Z
UID:10004272-1746662400-1746748799@balefirewealth.com
SUMMARY:Erika Wood Birthday
DESCRIPTION:
URL:https://balefirewealth.com/event/erika-wood-birthday/2025-05-08/
CATEGORIES:Birthdays
ATTACH;FMTTYPE=image/webp:https://balefirewealth.com/wp-content/uploads/2025/10/wood-erika.webp
END:VEVENT
BEGIN:VEVENT
DTSTART;TZID=America/Chicago:20250509T000000
DTEND;TZID=America/Chicago:20250509T235959
DTSTAMP:20260422T054541
CREATED:20250311T192036Z
LAST-MODIFIED:20260330T141038Z
UID:10004849-1746748800-1746835199@balefirewealth.com
SUMMARY:Vanessa Spenard Work Anniversary
DESCRIPTION:
URL:https://balefirewealth.com/event/vanessa-spenard-work-anniversary/2025-05-09/
CATEGORIES:Work Anniversaries
ATTACH;FMTTYPE=image/webp:https://balefirewealth.com/wp-content/uploads/2025/10/spenard-vanessa.webp
END:VEVENT
BEGIN:VEVENT
DTSTART;TZID=America/Chicago:20250509T000000
DTEND;TZID=America/Chicago:20250523T235959
DTSTAMP:20260422T054541
CREATED:20250425T023120Z
LAST-MODIFIED:20250425T023120Z
UID:10005039-1746748800-1748044799@balefirewealth.com
SUMMARY:Alana Tallarico Out of Office (05/09/2025)
DESCRIPTION:Alana Tallarico will be out of the office from 05/09/2025 to 05/23/2025.
URL:https://balefirewealth.com/event/alana-tallarico-out-of-office-05-09-2025/
CATEGORIES:Out of Office
END:VEVENT
BEGIN:VEVENT
DTSTART;TZID=America/Chicago:20250511T000000
DTEND;TZID=America/Chicago:20250511T235959
DTSTAMP:20260422T054541
CREATED:20250311T185744Z
LAST-MODIFIED:20260330T133344Z
UID:10004630-1746921600-1747007999@balefirewealth.com
SUMMARY:Lindsey Gresham Birthday
DESCRIPTION:
URL:https://balefirewealth.com/event/lindsey-gresham-birthday/2025-05-11/
CATEGORIES:Birthdays
ATTACH;FMTTYPE=image/webp:https://balefirewealth.com/wp-content/uploads/2025/10/gresham-lindsey.webp
END:VEVENT
END:VCALENDAR