BEGIN:VCALENDAR
VERSION:2.0
PRODID:-//Balefire Wealth - ECPv6.15.20//NONSGML v1.0//EN
CALSCALE:GREGORIAN
METHOD:PUBLISH
X-ORIGINAL-URL:https://balefirewealth.com
X-WR-CALDESC:Events for Balefire Wealth
REFRESH-INTERVAL;VALUE=DURATION:PT1H
X-Robots-Tag:noindex
X-PUBLISHED-TTL:PT1H
BEGIN:VTIMEZONE
TZID:America/Chicago
BEGIN:DAYLIGHT
TZOFFSETFROM:-0600
TZOFFSETTO:-0500
TZNAME:CDT
DTSTART:20260308T080000
END:DAYLIGHT
BEGIN:STANDARD
TZOFFSETFROM:-0500
TZOFFSETTO:-0600
TZNAME:CST
DTSTART:20261101T070000
END:STANDARD
BEGIN:DAYLIGHT
TZOFFSETFROM:-0600
TZOFFSETTO:-0500
TZNAME:CDT
DTSTART:20270314T080000
END:DAYLIGHT
BEGIN:STANDARD
TZOFFSETFROM:-0500
TZOFFSETTO:-0600
TZNAME:CST
DTSTART:20271107T070000
END:STANDARD
BEGIN:DAYLIGHT
TZOFFSETFROM:-0600
TZOFFSETTO:-0500
TZNAME:CDT
DTSTART:20280312T080000
END:DAYLIGHT
BEGIN:STANDARD
TZOFFSETFROM:-0500
TZOFFSETTO:-0600
TZNAME:CST
DTSTART:20281105T070000
END:STANDARD
BEGIN:DAYLIGHT
TZOFFSETFROM:-0600
TZOFFSETTO:-0500
TZNAME:CDT
DTSTART:20290311T080000
END:DAYLIGHT
BEGIN:STANDARD
TZOFFSETFROM:-0500
TZOFFSETTO:-0600
TZNAME:CST
DTSTART:20291104T070000
END:STANDARD
BEGIN:DAYLIGHT
TZOFFSETFROM:-0600
TZOFFSETTO:-0500
TZNAME:CDT
DTSTART:20300310T080000
END:DAYLIGHT
BEGIN:STANDARD
TZOFFSETFROM:-0500
TZOFFSETTO:-0600
TZNAME:CST
DTSTART:20301103T070000
END:STANDARD
BEGIN:DAYLIGHT
TZOFFSETFROM:-0600
TZOFFSETTO:-0500
TZNAME:CDT
DTSTART:20310309T080000
END:DAYLIGHT
BEGIN:STANDARD
TZOFFSETFROM:-0500
TZOFFSETTO:-0600
TZNAME:CST
DTSTART:20311102T070000
END:STANDARD
BEGIN:DAYLIGHT
TZOFFSETFROM:-0600
TZOFFSETTO:-0500
TZNAME:CDT
DTSTART:20320314T080000
END:DAYLIGHT
BEGIN:STANDARD
TZOFFSETFROM:-0500
TZOFFSETTO:-0600
TZNAME:CST
DTSTART:20321107T070000
END:STANDARD
END:VTIMEZONE
BEGIN:VEVENT
DTSTART;TZID=America/Chicago:20270101T000000
DTEND;TZID=America/Chicago:20270101T235959
DTSTAMP:20260422T053732
CREATED:20250311T175511Z
LAST-MODIFIED:20260330T141514Z
UID:10004056-1798761600-1798847999@balefirewealth.com
SUMMARY:Brian Smith Work Anniversary
DESCRIPTION:
URL:https://balefirewealth.com/event/brian-smith-work-anniversary/2027-01-01/
CATEGORIES:Work Anniversaries
ATTACH;FMTTYPE=image/webp:https://balefirewealth.com/wp-content/uploads/2026/03/brian-smith-square.webp
END:VEVENT
BEGIN:VEVENT
DTSTART;TZID=America/Chicago:20280101T000000
DTEND;TZID=America/Chicago:20280101T235959
DTSTAMP:20260422T053732
CREATED:20250311T175511Z
LAST-MODIFIED:20260330T141514Z
UID:10004057-1830297600-1830383999@balefirewealth.com
SUMMARY:Brian Smith Work Anniversary
DESCRIPTION:
URL:https://balefirewealth.com/event/brian-smith-work-anniversary/2028-01-01/
CATEGORIES:Work Anniversaries
ATTACH;FMTTYPE=image/webp:https://balefirewealth.com/wp-content/uploads/2026/03/brian-smith-square.webp
END:VEVENT
BEGIN:VEVENT
DTSTART;TZID=America/Chicago:20290101T000000
DTEND;TZID=America/Chicago:20290101T235959
DTSTAMP:20260422T053732
CREATED:20250311T175511Z
LAST-MODIFIED:20260330T141514Z
UID:10004058-1861920000-1862006399@balefirewealth.com
SUMMARY:Brian Smith Work Anniversary
DESCRIPTION:
URL:https://balefirewealth.com/event/brian-smith-work-anniversary/2029-01-01/
CATEGORIES:Work Anniversaries
ATTACH;FMTTYPE=image/webp:https://balefirewealth.com/wp-content/uploads/2026/03/brian-smith-square.webp
END:VEVENT
BEGIN:VEVENT
DTSTART;TZID=America/Chicago:20300101T000000
DTEND;TZID=America/Chicago:20300101T235959
DTSTAMP:20260422T053732
CREATED:20250311T175511Z
LAST-MODIFIED:20260330T141514Z
UID:10004059-1893456000-1893542399@balefirewealth.com
SUMMARY:Brian Smith Work Anniversary
DESCRIPTION:
URL:https://balefirewealth.com/event/brian-smith-work-anniversary/2030-01-01/
CATEGORIES:Work Anniversaries
ATTACH;FMTTYPE=image/webp:https://balefirewealth.com/wp-content/uploads/2026/03/brian-smith-square.webp
END:VEVENT
BEGIN:VEVENT
DTSTART;TZID=America/Chicago:20310101T000000
DTEND;TZID=America/Chicago:20310101T235959
DTSTAMP:20260422T053732
CREATED:20250311T175511Z
LAST-MODIFIED:20260330T141514Z
UID:10004060-1924992000-1925078399@balefirewealth.com
SUMMARY:Brian Smith Work Anniversary
DESCRIPTION:
URL:https://balefirewealth.com/event/brian-smith-work-anniversary/2031-01-01/
CATEGORIES:Work Anniversaries
ATTACH;FMTTYPE=image/webp:https://balefirewealth.com/wp-content/uploads/2026/03/brian-smith-square.webp
END:VEVENT
END:VCALENDAR