BEGIN:VCALENDAR
VERSION:2.0
PRODID:-//Balefire Wealth - ECPv6.15.20//NONSGML v1.0//EN
CALSCALE:GREGORIAN
METHOD:PUBLISH
X-ORIGINAL-URL:https://balefirewealth.com
X-WR-CALDESC:Events for Balefire Wealth
REFRESH-INTERVAL;VALUE=DURATION:PT1H
X-Robots-Tag:noindex
X-PUBLISHED-TTL:PT1H
BEGIN:VTIMEZONE
TZID:America/Chicago
BEGIN:DAYLIGHT
TZOFFSETFROM:-0600
TZOFFSETTO:-0500
TZNAME:CDT
DTSTART:20260308T080000
END:DAYLIGHT
BEGIN:STANDARD
TZOFFSETFROM:-0500
TZOFFSETTO:-0600
TZNAME:CST
DTSTART:20261101T070000
END:STANDARD
BEGIN:DAYLIGHT
TZOFFSETFROM:-0600
TZOFFSETTO:-0500
TZNAME:CDT
DTSTART:20270314T080000
END:DAYLIGHT
BEGIN:STANDARD
TZOFFSETFROM:-0500
TZOFFSETTO:-0600
TZNAME:CST
DTSTART:20271107T070000
END:STANDARD
BEGIN:DAYLIGHT
TZOFFSETFROM:-0600
TZOFFSETTO:-0500
TZNAME:CDT
DTSTART:20280312T080000
END:DAYLIGHT
BEGIN:STANDARD
TZOFFSETFROM:-0500
TZOFFSETTO:-0600
TZNAME:CST
DTSTART:20281105T070000
END:STANDARD
BEGIN:DAYLIGHT
TZOFFSETFROM:-0600
TZOFFSETTO:-0500
TZNAME:CDT
DTSTART:20290311T080000
END:DAYLIGHT
BEGIN:STANDARD
TZOFFSETFROM:-0500
TZOFFSETTO:-0600
TZNAME:CST
DTSTART:20291104T070000
END:STANDARD
BEGIN:DAYLIGHT
TZOFFSETFROM:-0600
TZOFFSETTO:-0500
TZNAME:CDT
DTSTART:20300310T080000
END:DAYLIGHT
BEGIN:STANDARD
TZOFFSETFROM:-0500
TZOFFSETTO:-0600
TZNAME:CST
DTSTART:20301103T070000
END:STANDARD
BEGIN:DAYLIGHT
TZOFFSETFROM:-0600
TZOFFSETTO:-0500
TZNAME:CDT
DTSTART:20310309T080000
END:DAYLIGHT
BEGIN:STANDARD
TZOFFSETFROM:-0500
TZOFFSETTO:-0600
TZNAME:CST
DTSTART:20311102T070000
END:STANDARD
BEGIN:DAYLIGHT
TZOFFSETFROM:-0600
TZOFFSETTO:-0500
TZNAME:CDT
DTSTART:20320314T080000
END:DAYLIGHT
BEGIN:STANDARD
TZOFFSETFROM:-0500
TZOFFSETTO:-0600
TZNAME:CST
DTSTART:20321107T070000
END:STANDARD
END:VTIMEZONE
BEGIN:VEVENT
DTSTART;TZID=America/Chicago:20270308T000000
DTEND;TZID=America/Chicago:20270308T235959
DTSTAMP:20260423T120358
CREATED:20250311T180306Z
LAST-MODIFIED:20260330T141457Z
UID:10004130-1804464000-1804550399@balefirewealth.com
SUMMARY:Chris Tipton Work Anniversary
DESCRIPTION:
URL:https://balefirewealth.com/event/chris-tipton-work-anniversary/2027-03-08/
CATEGORIES:Work Anniversaries
ATTACH;FMTTYPE=image/webp:https://balefirewealth.com/wp-content/uploads/2025/10/tipton-chris.webp
END:VEVENT
BEGIN:VEVENT
DTSTART;TZID=America/Chicago:20280308T000000
DTEND;TZID=America/Chicago:20280308T235959
DTSTAMP:20260423T120358
CREATED:20250311T180306Z
LAST-MODIFIED:20260330T141457Z
UID:10004131-1836086400-1836172799@balefirewealth.com
SUMMARY:Chris Tipton Work Anniversary
DESCRIPTION:
URL:https://balefirewealth.com/event/chris-tipton-work-anniversary/2028-03-08/
CATEGORIES:Work Anniversaries
ATTACH;FMTTYPE=image/webp:https://balefirewealth.com/wp-content/uploads/2025/10/tipton-chris.webp
END:VEVENT
BEGIN:VEVENT
DTSTART;TZID=America/Chicago:20290308T000000
DTEND;TZID=America/Chicago:20290308T235959
DTSTAMP:20260423T120358
CREATED:20250311T180306Z
LAST-MODIFIED:20260330T141457Z
UID:10004132-1867622400-1867708799@balefirewealth.com
SUMMARY:Chris Tipton Work Anniversary
DESCRIPTION:
URL:https://balefirewealth.com/event/chris-tipton-work-anniversary/2029-03-08/
CATEGORIES:Work Anniversaries
ATTACH;FMTTYPE=image/webp:https://balefirewealth.com/wp-content/uploads/2025/10/tipton-chris.webp
END:VEVENT
BEGIN:VEVENT
DTSTART;TZID=America/Chicago:20300308T000000
DTEND;TZID=America/Chicago:20300308T235959
DTSTAMP:20260423T120358
CREATED:20250311T180306Z
LAST-MODIFIED:20260330T141457Z
UID:10004133-1899158400-1899244799@balefirewealth.com
SUMMARY:Chris Tipton Work Anniversary
DESCRIPTION:
URL:https://balefirewealth.com/event/chris-tipton-work-anniversary/2030-03-08/
CATEGORIES:Work Anniversaries
ATTACH;FMTTYPE=image/webp:https://balefirewealth.com/wp-content/uploads/2025/10/tipton-chris.webp
END:VEVENT
BEGIN:VEVENT
DTSTART;TZID=America/Chicago:20310308T000000
DTEND;TZID=America/Chicago:20310308T235959
DTSTAMP:20260423T120358
CREATED:20250311T180306Z
LAST-MODIFIED:20260330T141457Z
UID:10004134-1930694400-1930780799@balefirewealth.com
SUMMARY:Chris Tipton Work Anniversary
DESCRIPTION:
URL:https://balefirewealth.com/event/chris-tipton-work-anniversary/2031-03-08/
CATEGORIES:Work Anniversaries
ATTACH;FMTTYPE=image/webp:https://balefirewealth.com/wp-content/uploads/2025/10/tipton-chris.webp
END:VEVENT
END:VCALENDAR