BEGIN:VCALENDAR
VERSION:2.0
PRODID:-//Balefire Wealth - ECPv6.15.20//NONSGML v1.0//EN
CALSCALE:GREGORIAN
METHOD:PUBLISH
X-ORIGINAL-URL:https://balefirewealth.com
X-WR-CALDESC:Events for Balefire Wealth
REFRESH-INTERVAL;VALUE=DURATION:PT1H
X-Robots-Tag:noindex
X-PUBLISHED-TTL:PT1H
BEGIN:VTIMEZONE
TZID:America/Chicago
BEGIN:DAYLIGHT
TZOFFSETFROM:-0600
TZOFFSETTO:-0500
TZNAME:CDT
DTSTART:20250309T080000
END:DAYLIGHT
BEGIN:STANDARD
TZOFFSETFROM:-0500
TZOFFSETTO:-0600
TZNAME:CST
DTSTART:20251102T070000
END:STANDARD
BEGIN:DAYLIGHT
TZOFFSETFROM:-0600
TZOFFSETTO:-0500
TZNAME:CDT
DTSTART:20260308T080000
END:DAYLIGHT
BEGIN:STANDARD
TZOFFSETFROM:-0500
TZOFFSETTO:-0600
TZNAME:CST
DTSTART:20261101T070000
END:STANDARD
BEGIN:DAYLIGHT
TZOFFSETFROM:-0600
TZOFFSETTO:-0500
TZNAME:CDT
DTSTART:20270314T080000
END:DAYLIGHT
BEGIN:STANDARD
TZOFFSETFROM:-0500
TZOFFSETTO:-0600
TZNAME:CST
DTSTART:20271107T070000
END:STANDARD
BEGIN:DAYLIGHT
TZOFFSETFROM:-0600
TZOFFSETTO:-0500
TZNAME:CDT
DTSTART:20280312T080000
END:DAYLIGHT
BEGIN:STANDARD
TZOFFSETFROM:-0500
TZOFFSETTO:-0600
TZNAME:CST
DTSTART:20281105T070000
END:STANDARD
BEGIN:DAYLIGHT
TZOFFSETFROM:-0600
TZOFFSETTO:-0500
TZNAME:CDT
DTSTART:20290311T080000
END:DAYLIGHT
BEGIN:STANDARD
TZOFFSETFROM:-0500
TZOFFSETTO:-0600
TZNAME:CST
DTSTART:20291104T070000
END:STANDARD
BEGIN:DAYLIGHT
TZOFFSETFROM:-0600
TZOFFSETTO:-0500
TZNAME:CDT
DTSTART:20300310T080000
END:DAYLIGHT
BEGIN:STANDARD
TZOFFSETFROM:-0500
TZOFFSETTO:-0600
TZNAME:CST
DTSTART:20301103T070000
END:STANDARD
BEGIN:DAYLIGHT
TZOFFSETFROM:-0600
TZOFFSETTO:-0500
TZNAME:CDT
DTSTART:20310309T080000
END:DAYLIGHT
BEGIN:STANDARD
TZOFFSETFROM:-0500
TZOFFSETTO:-0600
TZNAME:CST
DTSTART:20311102T070000
END:STANDARD
END:VTIMEZONE
BEGIN:VEVENT
DTSTART;TZID=America/Chicago:20260908T000000
DTEND;TZID=America/Chicago:20260908T235959
DTSTAMP:20260423T054140
CREATED:20250311T181933Z
LAST-MODIFIED:20260330T141433Z
UID:10004235-1788825600-1788911999@balefirewealth.com
SUMMARY:Ellie Haylund Work Anniversary
DESCRIPTION:
URL:https://balefirewealth.com/event/ellie-haylund-work-anniversary/2026-09-08/
CATEGORIES:Work Anniversaries
ATTACH;FMTTYPE=image/webp:https://balefirewealth.com/wp-content/uploads/2025/10/haylund-ellie.webp
END:VEVENT
BEGIN:VEVENT
DTSTART;TZID=America/Chicago:20270908T000000
DTEND;TZID=America/Chicago:20270908T235959
DTSTAMP:20260423T054140
CREATED:20250311T181933Z
LAST-MODIFIED:20260330T141433Z
UID:10004236-1820361600-1820447999@balefirewealth.com
SUMMARY:Ellie Haylund Work Anniversary
DESCRIPTION:
URL:https://balefirewealth.com/event/ellie-haylund-work-anniversary/2027-09-08/
CATEGORIES:Work Anniversaries
ATTACH;FMTTYPE=image/webp:https://balefirewealth.com/wp-content/uploads/2025/10/haylund-ellie.webp
END:VEVENT
BEGIN:VEVENT
DTSTART;TZID=America/Chicago:20280908T000000
DTEND;TZID=America/Chicago:20280908T235959
DTSTAMP:20260423T054140
CREATED:20250311T181933Z
LAST-MODIFIED:20260330T141433Z
UID:10004237-1851984000-1852070399@balefirewealth.com
SUMMARY:Ellie Haylund Work Anniversary
DESCRIPTION:
URL:https://balefirewealth.com/event/ellie-haylund-work-anniversary/2028-09-08/
CATEGORIES:Work Anniversaries
ATTACH;FMTTYPE=image/webp:https://balefirewealth.com/wp-content/uploads/2025/10/haylund-ellie.webp
END:VEVENT
BEGIN:VEVENT
DTSTART;TZID=America/Chicago:20290908T000000
DTEND;TZID=America/Chicago:20290908T235959
DTSTAMP:20260423T054140
CREATED:20250311T181933Z
LAST-MODIFIED:20260330T141433Z
UID:10004238-1883520000-1883606399@balefirewealth.com
SUMMARY:Ellie Haylund Work Anniversary
DESCRIPTION:
URL:https://balefirewealth.com/event/ellie-haylund-work-anniversary/2029-09-08/
CATEGORIES:Work Anniversaries
ATTACH;FMTTYPE=image/webp:https://balefirewealth.com/wp-content/uploads/2025/10/haylund-ellie.webp
END:VEVENT
BEGIN:VEVENT
DTSTART;TZID=America/Chicago:20300908T000000
DTEND;TZID=America/Chicago:20300908T235959
DTSTAMP:20260423T054140
CREATED:20250311T181933Z
LAST-MODIFIED:20260330T141433Z
UID:10004239-1915056000-1915142399@balefirewealth.com
SUMMARY:Ellie Haylund Work Anniversary
DESCRIPTION:
URL:https://balefirewealth.com/event/ellie-haylund-work-anniversary/2030-09-08/
CATEGORIES:Work Anniversaries
ATTACH;FMTTYPE=image/webp:https://balefirewealth.com/wp-content/uploads/2025/10/haylund-ellie.webp
END:VEVENT
END:VCALENDAR