BEGIN:VCALENDAR
VERSION:2.0
PRODID:-//Balefire Wealth - ECPv6.15.20//NONSGML v1.0//EN
CALSCALE:GREGORIAN
METHOD:PUBLISH
X-ORIGINAL-URL:https://balefirewealth.com
X-WR-CALDESC:Events for Balefire Wealth
REFRESH-INTERVAL;VALUE=DURATION:PT1H
X-Robots-Tag:noindex
X-PUBLISHED-TTL:PT1H
BEGIN:VTIMEZONE
TZID:America/Chicago
BEGIN:DAYLIGHT
TZOFFSETFROM:-0600
TZOFFSETTO:-0500
TZNAME:CDT
DTSTART:20260308T080000
END:DAYLIGHT
BEGIN:STANDARD
TZOFFSETFROM:-0500
TZOFFSETTO:-0600
TZNAME:CST
DTSTART:20261101T070000
END:STANDARD
BEGIN:DAYLIGHT
TZOFFSETFROM:-0600
TZOFFSETTO:-0500
TZNAME:CDT
DTSTART:20270314T080000
END:DAYLIGHT
BEGIN:STANDARD
TZOFFSETFROM:-0500
TZOFFSETTO:-0600
TZNAME:CST
DTSTART:20271107T070000
END:STANDARD
BEGIN:DAYLIGHT
TZOFFSETFROM:-0600
TZOFFSETTO:-0500
TZNAME:CDT
DTSTART:20280312T080000
END:DAYLIGHT
BEGIN:STANDARD
TZOFFSETFROM:-0500
TZOFFSETTO:-0600
TZNAME:CST
DTSTART:20281105T070000
END:STANDARD
BEGIN:DAYLIGHT
TZOFFSETFROM:-0600
TZOFFSETTO:-0500
TZNAME:CDT
DTSTART:20290311T080000
END:DAYLIGHT
BEGIN:STANDARD
TZOFFSETFROM:-0500
TZOFFSETTO:-0600
TZNAME:CST
DTSTART:20291104T070000
END:STANDARD
BEGIN:DAYLIGHT
TZOFFSETFROM:-0600
TZOFFSETTO:-0500
TZNAME:CDT
DTSTART:20300310T080000
END:DAYLIGHT
BEGIN:STANDARD
TZOFFSETFROM:-0500
TZOFFSETTO:-0600
TZNAME:CST
DTSTART:20301103T070000
END:STANDARD
BEGIN:DAYLIGHT
TZOFFSETFROM:-0600
TZOFFSETTO:-0500
TZNAME:CDT
DTSTART:20310309T080000
END:DAYLIGHT
BEGIN:STANDARD
TZOFFSETFROM:-0500
TZOFFSETTO:-0600
TZNAME:CST
DTSTART:20311102T070000
END:STANDARD
END:VTIMEZONE
BEGIN:VEVENT
DTSTART;TZID=America/Chicago:20270331T000000
DTEND;TZID=America/Chicago:20270331T235959
DTSTAMP:20260425T175030
CREATED:20250311T192536Z
LAST-MODIFIED:20260330T141026Z
UID:10004921-1806451200-1806537599@balefirewealth.com
SUMMARY:Blair Enfield Work Anniversary
DESCRIPTION:
URL:https://balefirewealth.com/event/blair-enfield-work-anniversary/2027-03-31/
CATEGORIES:Work Anniversaries
ATTACH;FMTTYPE=image/webp:https://balefirewealth.com/wp-content/uploads/2025/10/enfield-blair.webp
END:VEVENT
BEGIN:VEVENT
DTSTART;TZID=America/Chicago:20280331T000000
DTEND;TZID=America/Chicago:20280331T235959
DTSTAMP:20260425T175030
CREATED:20250311T192536Z
LAST-MODIFIED:20260330T141026Z
UID:10004922-1838073600-1838159999@balefirewealth.com
SUMMARY:Blair Enfield Work Anniversary
DESCRIPTION:
URL:https://balefirewealth.com/event/blair-enfield-work-anniversary/2028-03-31/
CATEGORIES:Work Anniversaries
ATTACH;FMTTYPE=image/webp:https://balefirewealth.com/wp-content/uploads/2025/10/enfield-blair.webp
END:VEVENT
BEGIN:VEVENT
DTSTART;TZID=America/Chicago:20290331T000000
DTEND;TZID=America/Chicago:20290331T235959
DTSTAMP:20260425T175030
CREATED:20250311T192536Z
LAST-MODIFIED:20260330T141026Z
UID:10004923-1869609600-1869695999@balefirewealth.com
SUMMARY:Blair Enfield Work Anniversary
DESCRIPTION:
URL:https://balefirewealth.com/event/blair-enfield-work-anniversary/2029-03-31/
CATEGORIES:Work Anniversaries
ATTACH;FMTTYPE=image/webp:https://balefirewealth.com/wp-content/uploads/2025/10/enfield-blair.webp
END:VEVENT
BEGIN:VEVENT
DTSTART;TZID=America/Chicago:20300331T000000
DTEND;TZID=America/Chicago:20300331T235959
DTSTAMP:20260425T175030
CREATED:20250311T192536Z
LAST-MODIFIED:20260330T141026Z
UID:10004924-1901145600-1901231999@balefirewealth.com
SUMMARY:Blair Enfield Work Anniversary
DESCRIPTION:
URL:https://balefirewealth.com/event/blair-enfield-work-anniversary/2030-03-31/
CATEGORIES:Work Anniversaries
ATTACH;FMTTYPE=image/webp:https://balefirewealth.com/wp-content/uploads/2025/10/enfield-blair.webp
END:VEVENT
END:VCALENDAR