BEGIN:VCALENDAR
VERSION:2.0
PRODID:-//Balefire Wealth - ECPv6.15.20//NONSGML v1.0//EN
CALSCALE:GREGORIAN
METHOD:PUBLISH
X-WR-CALNAME:Balefire Wealth
X-ORIGINAL-URL:https://balefirewealth.com
X-WR-CALDESC:Events for Balefire Wealth
REFRESH-INTERVAL;VALUE=DURATION:PT1H
X-Robots-Tag:noindex
X-PUBLISHED-TTL:PT1H
BEGIN:VTIMEZONE
TZID:America/Chicago
BEGIN:DAYLIGHT
TZOFFSETFROM:-0600
TZOFFSETTO:-0500
TZNAME:CDT
DTSTART:20250309T080000
END:DAYLIGHT
BEGIN:STANDARD
TZOFFSETFROM:-0500
TZOFFSETTO:-0600
TZNAME:CST
DTSTART:20251102T070000
END:STANDARD
BEGIN:DAYLIGHT
TZOFFSETFROM:-0600
TZOFFSETTO:-0500
TZNAME:CDT
DTSTART:20260308T080000
END:DAYLIGHT
BEGIN:STANDARD
TZOFFSETFROM:-0500
TZOFFSETTO:-0600
TZNAME:CST
DTSTART:20261101T070000
END:STANDARD
BEGIN:DAYLIGHT
TZOFFSETFROM:-0600
TZOFFSETTO:-0500
TZNAME:CDT
DTSTART:20270314T080000
END:DAYLIGHT
BEGIN:STANDARD
TZOFFSETFROM:-0500
TZOFFSETTO:-0600
TZNAME:CST
DTSTART:20271107T070000
END:STANDARD
BEGIN:DAYLIGHT
TZOFFSETFROM:-0600
TZOFFSETTO:-0500
TZNAME:CDT
DTSTART:20280312T080000
END:DAYLIGHT
BEGIN:STANDARD
TZOFFSETFROM:-0500
TZOFFSETTO:-0600
TZNAME:CST
DTSTART:20281105T070000
END:STANDARD
BEGIN:DAYLIGHT
TZOFFSETFROM:-0600
TZOFFSETTO:-0500
TZNAME:CDT
DTSTART:20290311T080000
END:DAYLIGHT
BEGIN:STANDARD
TZOFFSETFROM:-0500
TZOFFSETTO:-0600
TZNAME:CST
DTSTART:20291104T070000
END:STANDARD
BEGIN:DAYLIGHT
TZOFFSETFROM:-0600
TZOFFSETTO:-0500
TZNAME:CDT
DTSTART:20300310T080000
END:DAYLIGHT
BEGIN:STANDARD
TZOFFSETFROM:-0500
TZOFFSETTO:-0600
TZNAME:CST
DTSTART:20301103T070000
END:STANDARD
BEGIN:DAYLIGHT
TZOFFSETFROM:-0600
TZOFFSETTO:-0500
TZNAME:CDT
DTSTART:20310309T080000
END:DAYLIGHT
BEGIN:STANDARD
TZOFFSETFROM:-0500
TZOFFSETTO:-0600
TZNAME:CST
DTSTART:20311102T070000
END:STANDARD
END:VTIMEZONE
BEGIN:VEVENT
DTSTART;TZID=America/Chicago:20260516T000000
DTEND;TZID=America/Chicago:20260516T235959
DTSTAMP:20260422T054803
CREATED:20250311T180708Z
LAST-MODIFIED:20260330T141450Z
UID:10004159-1778889600-1778975999@balefirewealth.com
SUMMARY:Crystal Scott Work Anniversary
DESCRIPTION:
URL:https://balefirewealth.com/event/crystal-scott-work-anniversary/2026-05-16/
CATEGORIES:Work Anniversaries
ATTACH;FMTTYPE=image/webp:https://balefirewealth.com/wp-content/uploads/2025/10/scott-crystal.webp
END:VEVENT
BEGIN:VEVENT
DTSTART;TZID=America/Chicago:20270516T000000
DTEND;TZID=America/Chicago:20270516T235959
DTSTAMP:20260422T054803
CREATED:20250311T180708Z
LAST-MODIFIED:20260330T141450Z
UID:10004160-1810425600-1810511999@balefirewealth.com
SUMMARY:Crystal Scott Work Anniversary
DESCRIPTION:
URL:https://balefirewealth.com/event/crystal-scott-work-anniversary/2027-05-16/
CATEGORIES:Work Anniversaries
ATTACH;FMTTYPE=image/webp:https://balefirewealth.com/wp-content/uploads/2025/10/scott-crystal.webp
END:VEVENT
BEGIN:VEVENT
DTSTART;TZID=America/Chicago:20280516T000000
DTEND;TZID=America/Chicago:20280516T235959
DTSTAMP:20260422T054803
CREATED:20250311T180708Z
LAST-MODIFIED:20260330T141450Z
UID:10004161-1842048000-1842134399@balefirewealth.com
SUMMARY:Crystal Scott Work Anniversary
DESCRIPTION:
URL:https://balefirewealth.com/event/crystal-scott-work-anniversary/2028-05-16/
CATEGORIES:Work Anniversaries
ATTACH;FMTTYPE=image/webp:https://balefirewealth.com/wp-content/uploads/2025/10/scott-crystal.webp
END:VEVENT
BEGIN:VEVENT
DTSTART;TZID=America/Chicago:20290516T000000
DTEND;TZID=America/Chicago:20290516T235959
DTSTAMP:20260422T054803
CREATED:20250311T180708Z
LAST-MODIFIED:20260330T141450Z
UID:10004162-1873584000-1873670399@balefirewealth.com
SUMMARY:Crystal Scott Work Anniversary
DESCRIPTION:
URL:https://balefirewealth.com/event/crystal-scott-work-anniversary/2029-05-16/
CATEGORIES:Work Anniversaries
ATTACH;FMTTYPE=image/webp:https://balefirewealth.com/wp-content/uploads/2025/10/scott-crystal.webp
END:VEVENT
BEGIN:VEVENT
DTSTART;TZID=America/Chicago:20300516T000000
DTEND;TZID=America/Chicago:20300516T235959
DTSTAMP:20260422T054803
CREATED:20250311T180708Z
LAST-MODIFIED:20260330T141450Z
UID:10004163-1905120000-1905206399@balefirewealth.com
SUMMARY:Crystal Scott Work Anniversary
DESCRIPTION:
URL:https://balefirewealth.com/event/crystal-scott-work-anniversary/2030-05-16/
CATEGORIES:Work Anniversaries
ATTACH;FMTTYPE=image/webp:https://balefirewealth.com/wp-content/uploads/2025/10/scott-crystal.webp
END:VEVENT
END:VCALENDAR