BEGIN:VCALENDAR
VERSION:2.0
PRODID:-//Balefire Wealth - ECPv6.15.20//NONSGML v1.0//EN
CALSCALE:GREGORIAN
METHOD:PUBLISH
X-WR-CALNAME:Balefire Wealth
X-ORIGINAL-URL:https://balefirewealth.com
X-WR-CALDESC:Events for Balefire Wealth
REFRESH-INTERVAL;VALUE=DURATION:PT1H
X-Robots-Tag:noindex
X-PUBLISHED-TTL:PT1H
BEGIN:VTIMEZONE
TZID:America/Chicago
BEGIN:DAYLIGHT
TZOFFSETFROM:-0600
TZOFFSETTO:-0500
TZNAME:CDT
DTSTART:20260308T080000
END:DAYLIGHT
BEGIN:STANDARD
TZOFFSETFROM:-0500
TZOFFSETTO:-0600
TZNAME:CST
DTSTART:20261101T070000
END:STANDARD
BEGIN:DAYLIGHT
TZOFFSETFROM:-0600
TZOFFSETTO:-0500
TZNAME:CDT
DTSTART:20270314T080000
END:DAYLIGHT
BEGIN:STANDARD
TZOFFSETFROM:-0500
TZOFFSETTO:-0600
TZNAME:CST
DTSTART:20271107T070000
END:STANDARD
BEGIN:DAYLIGHT
TZOFFSETFROM:-0600
TZOFFSETTO:-0500
TZNAME:CDT
DTSTART:20280312T080000
END:DAYLIGHT
BEGIN:STANDARD
TZOFFSETFROM:-0500
TZOFFSETTO:-0600
TZNAME:CST
DTSTART:20281105T070000
END:STANDARD
BEGIN:DAYLIGHT
TZOFFSETFROM:-0600
TZOFFSETTO:-0500
TZNAME:CDT
DTSTART:20290311T080000
END:DAYLIGHT
BEGIN:STANDARD
TZOFFSETFROM:-0500
TZOFFSETTO:-0600
TZNAME:CST
DTSTART:20291104T070000
END:STANDARD
BEGIN:DAYLIGHT
TZOFFSETFROM:-0600
TZOFFSETTO:-0500
TZNAME:CDT
DTSTART:20300310T080000
END:DAYLIGHT
BEGIN:STANDARD
TZOFFSETFROM:-0500
TZOFFSETTO:-0600
TZNAME:CST
DTSTART:20301103T070000
END:STANDARD
BEGIN:DAYLIGHT
TZOFFSETFROM:-0600
TZOFFSETTO:-0500
TZNAME:CDT
DTSTART:20310309T080000
END:DAYLIGHT
BEGIN:STANDARD
TZOFFSETFROM:-0500
TZOFFSETTO:-0600
TZNAME:CST
DTSTART:20311102T070000
END:STANDARD
BEGIN:DAYLIGHT
TZOFFSETFROM:-0600
TZOFFSETTO:-0500
TZNAME:CDT
DTSTART:20320314T080000
END:DAYLIGHT
BEGIN:STANDARD
TZOFFSETFROM:-0500
TZOFFSETTO:-0600
TZNAME:CST
DTSTART:20321107T070000
END:STANDARD
END:VTIMEZONE
BEGIN:VEVENT
DTSTART;TZID=America/Chicago:20270228T000000
DTEND;TZID=America/Chicago:20270228T235959
DTSTAMP:20260421T101117
CREATED:20250311T184909Z
LAST-MODIFIED:20260330T141239Z
UID:10004539-1803772800-1803859199@balefirewealth.com
SUMMARY:John Hoffman Work Anniversary
DESCRIPTION:
URL:https://balefirewealth.com/event/john-hoffman-work-anniversary/2027-02-28/
CATEGORIES:Work Anniversaries
ATTACH;FMTTYPE=image/webp:https://balefirewealth.com/wp-content/uploads/2026/03/john-hoffman-square.webp
END:VEVENT
BEGIN:VEVENT
DTSTART;TZID=America/Chicago:20280228T000000
DTEND;TZID=America/Chicago:20280228T235959
DTSTAMP:20260421T101117
CREATED:20250311T184909Z
LAST-MODIFIED:20260330T141239Z
UID:10004540-1835308800-1835395199@balefirewealth.com
SUMMARY:John Hoffman Work Anniversary
DESCRIPTION:
URL:https://balefirewealth.com/event/john-hoffman-work-anniversary/2028-02-28/
CATEGORIES:Work Anniversaries
ATTACH;FMTTYPE=image/webp:https://balefirewealth.com/wp-content/uploads/2026/03/john-hoffman-square.webp
END:VEVENT
BEGIN:VEVENT
DTSTART;TZID=America/Chicago:20290228T000000
DTEND;TZID=America/Chicago:20290228T235959
DTSTAMP:20260421T101117
CREATED:20250311T184909Z
LAST-MODIFIED:20260330T141239Z
UID:10004541-1866931200-1867017599@balefirewealth.com
SUMMARY:John Hoffman Work Anniversary
DESCRIPTION:
URL:https://balefirewealth.com/event/john-hoffman-work-anniversary/2029-02-28/
CATEGORIES:Work Anniversaries
ATTACH;FMTTYPE=image/webp:https://balefirewealth.com/wp-content/uploads/2026/03/john-hoffman-square.webp
END:VEVENT
BEGIN:VEVENT
DTSTART;TZID=America/Chicago:20300228T000000
DTEND;TZID=America/Chicago:20300228T235959
DTSTAMP:20260421T101117
CREATED:20250311T184909Z
LAST-MODIFIED:20260330T141239Z
UID:10004542-1898467200-1898553599@balefirewealth.com
SUMMARY:John Hoffman Work Anniversary
DESCRIPTION:
URL:https://balefirewealth.com/event/john-hoffman-work-anniversary/2030-02-28/
CATEGORIES:Work Anniversaries
ATTACH;FMTTYPE=image/webp:https://balefirewealth.com/wp-content/uploads/2026/03/john-hoffman-square.webp
END:VEVENT
BEGIN:VEVENT
DTSTART;TZID=America/Chicago:20310228T000000
DTEND;TZID=America/Chicago:20310228T235959
DTSTAMP:20260421T101117
CREATED:20250311T184909Z
LAST-MODIFIED:20260330T141239Z
UID:10004543-1930003200-1930089599@balefirewealth.com
SUMMARY:John Hoffman Work Anniversary
DESCRIPTION:
URL:https://balefirewealth.com/event/john-hoffman-work-anniversary/2031-02-28/
CATEGORIES:Work Anniversaries
ATTACH;FMTTYPE=image/webp:https://balefirewealth.com/wp-content/uploads/2026/03/john-hoffman-square.webp
END:VEVENT
END:VCALENDAR