BEGIN:VCALENDAR
VERSION:2.0
PRODID:-//Balefire Wealth - ECPv6.15.20//NONSGML v1.0//EN
CALSCALE:GREGORIAN
METHOD:PUBLISH
X-WR-CALNAME:Balefire Wealth
X-ORIGINAL-URL:https://balefirewealth.com
X-WR-CALDESC:Events for Balefire Wealth
REFRESH-INTERVAL;VALUE=DURATION:PT1H
X-Robots-Tag:noindex
X-PUBLISHED-TTL:PT1H
BEGIN:VTIMEZONE
TZID:America/Chicago
BEGIN:DAYLIGHT
TZOFFSETFROM:-0600
TZOFFSETTO:-0500
TZNAME:CDT
DTSTART:20250309T080000
END:DAYLIGHT
BEGIN:STANDARD
TZOFFSETFROM:-0500
TZOFFSETTO:-0600
TZNAME:CST
DTSTART:20251102T070000
END:STANDARD
BEGIN:DAYLIGHT
TZOFFSETFROM:-0600
TZOFFSETTO:-0500
TZNAME:CDT
DTSTART:20260308T080000
END:DAYLIGHT
BEGIN:STANDARD
TZOFFSETFROM:-0500
TZOFFSETTO:-0600
TZNAME:CST
DTSTART:20261101T070000
END:STANDARD
BEGIN:DAYLIGHT
TZOFFSETFROM:-0600
TZOFFSETTO:-0500
TZNAME:CDT
DTSTART:20270314T080000
END:DAYLIGHT
BEGIN:STANDARD
TZOFFSETFROM:-0500
TZOFFSETTO:-0600
TZNAME:CST
DTSTART:20271107T070000
END:STANDARD
BEGIN:DAYLIGHT
TZOFFSETFROM:-0600
TZOFFSETTO:-0500
TZNAME:CDT
DTSTART:20280312T080000
END:DAYLIGHT
BEGIN:STANDARD
TZOFFSETFROM:-0500
TZOFFSETTO:-0600
TZNAME:CST
DTSTART:20281105T070000
END:STANDARD
BEGIN:DAYLIGHT
TZOFFSETFROM:-0600
TZOFFSETTO:-0500
TZNAME:CDT
DTSTART:20290311T080000
END:DAYLIGHT
BEGIN:STANDARD
TZOFFSETFROM:-0500
TZOFFSETTO:-0600
TZNAME:CST
DTSTART:20291104T070000
END:STANDARD
BEGIN:DAYLIGHT
TZOFFSETFROM:-0600
TZOFFSETTO:-0500
TZNAME:CDT
DTSTART:20300310T080000
END:DAYLIGHT
BEGIN:STANDARD
TZOFFSETFROM:-0500
TZOFFSETTO:-0600
TZNAME:CST
DTSTART:20301103T070000
END:STANDARD
BEGIN:DAYLIGHT
TZOFFSETFROM:-0600
TZOFFSETTO:-0500
TZNAME:CDT
DTSTART:20310309T080000
END:DAYLIGHT
BEGIN:STANDARD
TZOFFSETFROM:-0500
TZOFFSETTO:-0600
TZNAME:CST
DTSTART:20311102T070000
END:STANDARD
END:VTIMEZONE
BEGIN:VEVENT
DTSTART;TZID=America/Chicago:20260618T000000
DTEND;TZID=America/Chicago:20260618T235959
DTSTAMP:20260422T100133
CREATED:20250311T181843Z
LAST-MODIFIED:20260330T133539Z
UID:10004224-1781740800-1781827199@balefirewealth.com
SUMMARY:Ellie Haylund Birthday
DESCRIPTION:
URL:https://balefirewealth.com/event/ellie-haylund-birthday/2026-06-18/
CATEGORIES:Birthdays
ATTACH;FMTTYPE=image/webp:https://balefirewealth.com/wp-content/uploads/2025/10/haylund-ellie.webp
END:VEVENT
BEGIN:VEVENT
DTSTART;TZID=America/Chicago:20270618T000000
DTEND;TZID=America/Chicago:20270618T235959
DTSTAMP:20260422T100133
CREATED:20250311T181843Z
LAST-MODIFIED:20260330T133539Z
UID:10004225-1813276800-1813363199@balefirewealth.com
SUMMARY:Ellie Haylund Birthday
DESCRIPTION:
URL:https://balefirewealth.com/event/ellie-haylund-birthday/2027-06-18/
CATEGORIES:Birthdays
ATTACH;FMTTYPE=image/webp:https://balefirewealth.com/wp-content/uploads/2025/10/haylund-ellie.webp
END:VEVENT
BEGIN:VEVENT
DTSTART;TZID=America/Chicago:20280618T000000
DTEND;TZID=America/Chicago:20280618T235959
DTSTAMP:20260422T100133
CREATED:20250311T181843Z
LAST-MODIFIED:20260330T133539Z
UID:10004226-1844899200-1844985599@balefirewealth.com
SUMMARY:Ellie Haylund Birthday
DESCRIPTION:
URL:https://balefirewealth.com/event/ellie-haylund-birthday/2028-06-18/
CATEGORIES:Birthdays
ATTACH;FMTTYPE=image/webp:https://balefirewealth.com/wp-content/uploads/2025/10/haylund-ellie.webp
END:VEVENT
BEGIN:VEVENT
DTSTART;TZID=America/Chicago:20290618T000000
DTEND;TZID=America/Chicago:20290618T235959
DTSTAMP:20260422T100133
CREATED:20250311T181843Z
LAST-MODIFIED:20260330T133539Z
UID:10004227-1876435200-1876521599@balefirewealth.com
SUMMARY:Ellie Haylund Birthday
DESCRIPTION:
URL:https://balefirewealth.com/event/ellie-haylund-birthday/2029-06-18/
CATEGORIES:Birthdays
ATTACH;FMTTYPE=image/webp:https://balefirewealth.com/wp-content/uploads/2025/10/haylund-ellie.webp
END:VEVENT
BEGIN:VEVENT
DTSTART;TZID=America/Chicago:20300618T000000
DTEND;TZID=America/Chicago:20300618T235959
DTSTAMP:20260422T100133
CREATED:20250311T181843Z
LAST-MODIFIED:20260330T133539Z
UID:10004228-1907971200-1908057599@balefirewealth.com
SUMMARY:Ellie Haylund Birthday
DESCRIPTION:
URL:https://balefirewealth.com/event/ellie-haylund-birthday/2030-06-18/
CATEGORIES:Birthdays
ATTACH;FMTTYPE=image/webp:https://balefirewealth.com/wp-content/uploads/2025/10/haylund-ellie.webp
END:VEVENT
END:VCALENDAR