BEGIN:VCALENDAR
VERSION:2.0
PRODID:-//Balefire Wealth - ECPv6.15.20//NONSGML v1.0//EN
CALSCALE:GREGORIAN
METHOD:PUBLISH
X-WR-CALNAME:Balefire Wealth
X-ORIGINAL-URL:https://balefirewealth.com
X-WR-CALDESC:Events for Balefire Wealth
REFRESH-INTERVAL;VALUE=DURATION:PT1H
X-Robots-Tag:noindex
X-PUBLISHED-TTL:PT1H
BEGIN:VTIMEZONE
TZID:America/Chicago
BEGIN:DAYLIGHT
TZOFFSETFROM:-0600
TZOFFSETTO:-0500
TZNAME:CDT
DTSTART:20250309T080000
END:DAYLIGHT
BEGIN:STANDARD
TZOFFSETFROM:-0500
TZOFFSETTO:-0600
TZNAME:CST
DTSTART:20251102T070000
END:STANDARD
BEGIN:DAYLIGHT
TZOFFSETFROM:-0600
TZOFFSETTO:-0500
TZNAME:CDT
DTSTART:20260308T080000
END:DAYLIGHT
BEGIN:STANDARD
TZOFFSETFROM:-0500
TZOFFSETTO:-0600
TZNAME:CST
DTSTART:20261101T070000
END:STANDARD
BEGIN:DAYLIGHT
TZOFFSETFROM:-0600
TZOFFSETTO:-0500
TZNAME:CDT
DTSTART:20270314T080000
END:DAYLIGHT
BEGIN:STANDARD
TZOFFSETFROM:-0500
TZOFFSETTO:-0600
TZNAME:CST
DTSTART:20271107T070000
END:STANDARD
BEGIN:DAYLIGHT
TZOFFSETFROM:-0600
TZOFFSETTO:-0500
TZNAME:CDT
DTSTART:20280312T080000
END:DAYLIGHT
BEGIN:STANDARD
TZOFFSETFROM:-0500
TZOFFSETTO:-0600
TZNAME:CST
DTSTART:20281105T070000
END:STANDARD
BEGIN:DAYLIGHT
TZOFFSETFROM:-0600
TZOFFSETTO:-0500
TZNAME:CDT
DTSTART:20290311T080000
END:DAYLIGHT
BEGIN:STANDARD
TZOFFSETFROM:-0500
TZOFFSETTO:-0600
TZNAME:CST
DTSTART:20291104T070000
END:STANDARD
BEGIN:DAYLIGHT
TZOFFSETFROM:-0600
TZOFFSETTO:-0500
TZNAME:CDT
DTSTART:20300310T080000
END:DAYLIGHT
BEGIN:STANDARD
TZOFFSETFROM:-0500
TZOFFSETTO:-0600
TZNAME:CST
DTSTART:20301103T070000
END:STANDARD
BEGIN:DAYLIGHT
TZOFFSETFROM:-0600
TZOFFSETTO:-0500
TZNAME:CDT
DTSTART:20310309T080000
END:DAYLIGHT
BEGIN:STANDARD
TZOFFSETFROM:-0500
TZOFFSETTO:-0600
TZNAME:CST
DTSTART:20311102T070000
END:STANDARD
END:VTIMEZONE
BEGIN:VEVENT
DTSTART;TZID=America/Chicago:20260522T000000
DTEND;TZID=America/Chicago:20260522T235959
DTSTAMP:20260422T094314
CREATED:20250311T182037Z
LAST-MODIFIED:20260330T133536Z
UID:10004241-1779408000-1779494399@balefirewealth.com
SUMMARY:Emory Smith Birthday
DESCRIPTION:
URL:https://balefirewealth.com/event/emory-smith-birthday/2026-05-22/
CATEGORIES:Birthdays
ATTACH;FMTTYPE=image/webp:https://balefirewealth.com/wp-content/uploads/2026/03/emory-smith-square.webp
END:VEVENT
BEGIN:VEVENT
DTSTART;TZID=America/Chicago:20270522T000000
DTEND;TZID=America/Chicago:20270522T235959
DTSTAMP:20260422T094314
CREATED:20250311T182037Z
LAST-MODIFIED:20260330T133536Z
UID:10004242-1810944000-1811030399@balefirewealth.com
SUMMARY:Emory Smith Birthday
DESCRIPTION:
URL:https://balefirewealth.com/event/emory-smith-birthday/2027-05-22/
CATEGORIES:Birthdays
ATTACH;FMTTYPE=image/webp:https://balefirewealth.com/wp-content/uploads/2026/03/emory-smith-square.webp
END:VEVENT
BEGIN:VEVENT
DTSTART;TZID=America/Chicago:20280522T000000
DTEND;TZID=America/Chicago:20280522T235959
DTSTAMP:20260422T094314
CREATED:20250311T182037Z
LAST-MODIFIED:20260330T133536Z
UID:10004243-1842566400-1842652799@balefirewealth.com
SUMMARY:Emory Smith Birthday
DESCRIPTION:
URL:https://balefirewealth.com/event/emory-smith-birthday/2028-05-22/
CATEGORIES:Birthdays
ATTACH;FMTTYPE=image/webp:https://balefirewealth.com/wp-content/uploads/2026/03/emory-smith-square.webp
END:VEVENT
BEGIN:VEVENT
DTSTART;TZID=America/Chicago:20290522T000000
DTEND;TZID=America/Chicago:20290522T235959
DTSTAMP:20260422T094314
CREATED:20250311T182037Z
LAST-MODIFIED:20260330T133536Z
UID:10004244-1874102400-1874188799@balefirewealth.com
SUMMARY:Emory Smith Birthday
DESCRIPTION:
URL:https://balefirewealth.com/event/emory-smith-birthday/2029-05-22/
CATEGORIES:Birthdays
ATTACH;FMTTYPE=image/webp:https://balefirewealth.com/wp-content/uploads/2026/03/emory-smith-square.webp
END:VEVENT
BEGIN:VEVENT
DTSTART;TZID=America/Chicago:20300522T000000
DTEND;TZID=America/Chicago:20300522T235959
DTSTAMP:20260422T094314
CREATED:20250311T182037Z
LAST-MODIFIED:20260330T133536Z
UID:10004245-1905638400-1905724799@balefirewealth.com
SUMMARY:Emory Smith Birthday
DESCRIPTION:
URL:https://balefirewealth.com/event/emory-smith-birthday/2030-05-22/
CATEGORIES:Birthdays
ATTACH;FMTTYPE=image/webp:https://balefirewealth.com/wp-content/uploads/2026/03/emory-smith-square.webp
END:VEVENT
END:VCALENDAR