BEGIN:VCALENDAR
VERSION:2.0
PRODID:-//Balefire Wealth - ECPv6.15.20//NONSGML v1.0//EN
CALSCALE:GREGORIAN
METHOD:PUBLISH
X-WR-CALNAME:Balefire Wealth
X-ORIGINAL-URL:https://balefirewealth.com
X-WR-CALDESC:Events for Balefire Wealth
REFRESH-INTERVAL;VALUE=DURATION:PT1H
X-Robots-Tag:noindex
X-PUBLISHED-TTL:PT1H
BEGIN:VTIMEZONE
TZID:America/Chicago
BEGIN:DAYLIGHT
TZOFFSETFROM:-0600
TZOFFSETTO:-0500
TZNAME:CDT
DTSTART:20250309T080000
END:DAYLIGHT
BEGIN:STANDARD
TZOFFSETFROM:-0500
TZOFFSETTO:-0600
TZNAME:CST
DTSTART:20251102T070000
END:STANDARD
BEGIN:DAYLIGHT
TZOFFSETFROM:-0600
TZOFFSETTO:-0500
TZNAME:CDT
DTSTART:20260308T080000
END:DAYLIGHT
BEGIN:STANDARD
TZOFFSETFROM:-0500
TZOFFSETTO:-0600
TZNAME:CST
DTSTART:20261101T070000
END:STANDARD
BEGIN:DAYLIGHT
TZOFFSETFROM:-0600
TZOFFSETTO:-0500
TZNAME:CDT
DTSTART:20270314T080000
END:DAYLIGHT
BEGIN:STANDARD
TZOFFSETFROM:-0500
TZOFFSETTO:-0600
TZNAME:CST
DTSTART:20271107T070000
END:STANDARD
BEGIN:DAYLIGHT
TZOFFSETFROM:-0600
TZOFFSETTO:-0500
TZNAME:CDT
DTSTART:20280312T080000
END:DAYLIGHT
BEGIN:STANDARD
TZOFFSETFROM:-0500
TZOFFSETTO:-0600
TZNAME:CST
DTSTART:20281105T070000
END:STANDARD
BEGIN:DAYLIGHT
TZOFFSETFROM:-0600
TZOFFSETTO:-0500
TZNAME:CDT
DTSTART:20290311T080000
END:DAYLIGHT
BEGIN:STANDARD
TZOFFSETFROM:-0500
TZOFFSETTO:-0600
TZNAME:CST
DTSTART:20291104T070000
END:STANDARD
BEGIN:DAYLIGHT
TZOFFSETFROM:-0600
TZOFFSETTO:-0500
TZNAME:CDT
DTSTART:20300310T080000
END:DAYLIGHT
BEGIN:STANDARD
TZOFFSETFROM:-0500
TZOFFSETTO:-0600
TZNAME:CST
DTSTART:20301103T070000
END:STANDARD
BEGIN:DAYLIGHT
TZOFFSETFROM:-0600
TZOFFSETTO:-0500
TZNAME:CDT
DTSTART:20310309T080000
END:DAYLIGHT
BEGIN:STANDARD
TZOFFSETFROM:-0500
TZOFFSETTO:-0600
TZNAME:CST
DTSTART:20311102T070000
END:STANDARD
END:VTIMEZONE
BEGIN:VEVENT
DTSTART;TZID=America/Chicago:20260508T000000
DTEND;TZID=America/Chicago:20260508T235959
DTSTAMP:20260420T102125
CREATED:20250311T182540Z
LAST-MODIFIED:20260330T133530Z
UID:10004273-1778198400-1778284799@balefirewealth.com
SUMMARY:Erika Wood Birthday
DESCRIPTION:
URL:https://balefirewealth.com/event/erika-wood-birthday/2026-05-08/
CATEGORIES:Birthdays
ATTACH;FMTTYPE=image/webp:https://balefirewealth.com/wp-content/uploads/2025/10/wood-erika.webp
END:VEVENT
BEGIN:VEVENT
DTSTART;TZID=America/Chicago:20270508T000000
DTEND;TZID=America/Chicago:20270508T235959
DTSTAMP:20260420T102125
CREATED:20250311T182540Z
LAST-MODIFIED:20260330T133530Z
UID:10004274-1809734400-1809820799@balefirewealth.com
SUMMARY:Erika Wood Birthday
DESCRIPTION:
URL:https://balefirewealth.com/event/erika-wood-birthday/2027-05-08/
CATEGORIES:Birthdays
ATTACH;FMTTYPE=image/webp:https://balefirewealth.com/wp-content/uploads/2025/10/wood-erika.webp
END:VEVENT
BEGIN:VEVENT
DTSTART;TZID=America/Chicago:20280508T000000
DTEND;TZID=America/Chicago:20280508T235959
DTSTAMP:20260420T102125
CREATED:20250311T182540Z
LAST-MODIFIED:20260330T133530Z
UID:10004275-1841356800-1841443199@balefirewealth.com
SUMMARY:Erika Wood Birthday
DESCRIPTION:
URL:https://balefirewealth.com/event/erika-wood-birthday/2028-05-08/
CATEGORIES:Birthdays
ATTACH;FMTTYPE=image/webp:https://balefirewealth.com/wp-content/uploads/2025/10/wood-erika.webp
END:VEVENT
BEGIN:VEVENT
DTSTART;TZID=America/Chicago:20290508T000000
DTEND;TZID=America/Chicago:20290508T235959
DTSTAMP:20260420T102125
CREATED:20250311T182540Z
LAST-MODIFIED:20260330T133530Z
UID:10004276-1872892800-1872979199@balefirewealth.com
SUMMARY:Erika Wood Birthday
DESCRIPTION:
URL:https://balefirewealth.com/event/erika-wood-birthday/2029-05-08/
CATEGORIES:Birthdays
ATTACH;FMTTYPE=image/webp:https://balefirewealth.com/wp-content/uploads/2025/10/wood-erika.webp
END:VEVENT
BEGIN:VEVENT
DTSTART;TZID=America/Chicago:20300508T000000
DTEND;TZID=America/Chicago:20300508T235959
DTSTAMP:20260420T102125
CREATED:20250311T182540Z
LAST-MODIFIED:20260330T133530Z
UID:10004277-1904428800-1904515199@balefirewealth.com
SUMMARY:Erika Wood Birthday
DESCRIPTION:
URL:https://balefirewealth.com/event/erika-wood-birthday/2030-05-08/
CATEGORIES:Birthdays
ATTACH;FMTTYPE=image/webp:https://balefirewealth.com/wp-content/uploads/2025/10/wood-erika.webp
END:VEVENT
END:VCALENDAR