BEGIN:VCALENDAR
VERSION:2.0
PRODID:-//Balefire Wealth - ECPv6.15.20//NONSGML v1.0//EN
CALSCALE:GREGORIAN
METHOD:PUBLISH
X-WR-CALNAME:Balefire Wealth
X-ORIGINAL-URL:https://balefirewealth.com
X-WR-CALDESC:Events for Balefire Wealth
REFRESH-INTERVAL;VALUE=DURATION:PT1H
X-Robots-Tag:noindex
X-PUBLISHED-TTL:PT1H
BEGIN:VTIMEZONE
TZID:America/Chicago
BEGIN:DAYLIGHT
TZOFFSETFROM:-0600
TZOFFSETTO:-0500
TZNAME:CDT
DTSTART:20250309T080000
END:DAYLIGHT
BEGIN:STANDARD
TZOFFSETFROM:-0500
TZOFFSETTO:-0600
TZNAME:CST
DTSTART:20251102T070000
END:STANDARD
BEGIN:DAYLIGHT
TZOFFSETFROM:-0600
TZOFFSETTO:-0500
TZNAME:CDT
DTSTART:20260308T080000
END:DAYLIGHT
BEGIN:STANDARD
TZOFFSETFROM:-0500
TZOFFSETTO:-0600
TZNAME:CST
DTSTART:20261101T070000
END:STANDARD
BEGIN:DAYLIGHT
TZOFFSETFROM:-0600
TZOFFSETTO:-0500
TZNAME:CDT
DTSTART:20270314T080000
END:DAYLIGHT
BEGIN:STANDARD
TZOFFSETFROM:-0500
TZOFFSETTO:-0600
TZNAME:CST
DTSTART:20271107T070000
END:STANDARD
BEGIN:DAYLIGHT
TZOFFSETFROM:-0600
TZOFFSETTO:-0500
TZNAME:CDT
DTSTART:20280312T080000
END:DAYLIGHT
BEGIN:STANDARD
TZOFFSETFROM:-0500
TZOFFSETTO:-0600
TZNAME:CST
DTSTART:20281105T070000
END:STANDARD
BEGIN:DAYLIGHT
TZOFFSETFROM:-0600
TZOFFSETTO:-0500
TZNAME:CDT
DTSTART:20290311T080000
END:DAYLIGHT
BEGIN:STANDARD
TZOFFSETFROM:-0500
TZOFFSETTO:-0600
TZNAME:CST
DTSTART:20291104T070000
END:STANDARD
BEGIN:DAYLIGHT
TZOFFSETFROM:-0600
TZOFFSETTO:-0500
TZNAME:CDT
DTSTART:20300310T080000
END:DAYLIGHT
BEGIN:STANDARD
TZOFFSETFROM:-0500
TZOFFSETTO:-0600
TZNAME:CST
DTSTART:20301103T070000
END:STANDARD
BEGIN:DAYLIGHT
TZOFFSETFROM:-0600
TZOFFSETTO:-0500
TZNAME:CDT
DTSTART:20310309T080000
END:DAYLIGHT
BEGIN:STANDARD
TZOFFSETFROM:-0500
TZOFFSETTO:-0600
TZNAME:CST
DTSTART:20311102T070000
END:STANDARD
END:VTIMEZONE
BEGIN:VEVENT
DTSTART;TZID=America/Chicago:20260905T000000
DTEND;TZID=America/Chicago:20260905T235959
DTSTAMP:20260424T110242
CREATED:20250311T184645Z
LAST-MODIFIED:20260330T133455Z
UID:10004509-1788566400-1788652799@balefirewealth.com
SUMMARY:James Mars Birthday
DESCRIPTION:
URL:https://balefirewealth.com/event/james-mars-birthday/2026-09-05/
CATEGORIES:Birthdays
ATTACH;FMTTYPE=image/webp:https://balefirewealth.com/wp-content/uploads/2025/10/mars-jim.webp
END:VEVENT
BEGIN:VEVENT
DTSTART;TZID=America/Chicago:20270905T000000
DTEND;TZID=America/Chicago:20270905T235959
DTSTAMP:20260424T110242
CREATED:20250311T184645Z
LAST-MODIFIED:20260330T133455Z
UID:10004510-1820102400-1820188799@balefirewealth.com
SUMMARY:James Mars Birthday
DESCRIPTION:
URL:https://balefirewealth.com/event/james-mars-birthday/2027-09-05/
CATEGORIES:Birthdays
ATTACH;FMTTYPE=image/webp:https://balefirewealth.com/wp-content/uploads/2025/10/mars-jim.webp
END:VEVENT
BEGIN:VEVENT
DTSTART;TZID=America/Chicago:20280905T000000
DTEND;TZID=America/Chicago:20280905T235959
DTSTAMP:20260424T110242
CREATED:20250311T184645Z
LAST-MODIFIED:20260330T133455Z
UID:10004511-1851724800-1851811199@balefirewealth.com
SUMMARY:James Mars Birthday
DESCRIPTION:
URL:https://balefirewealth.com/event/james-mars-birthday/2028-09-05/
CATEGORIES:Birthdays
ATTACH;FMTTYPE=image/webp:https://balefirewealth.com/wp-content/uploads/2025/10/mars-jim.webp
END:VEVENT
BEGIN:VEVENT
DTSTART;TZID=America/Chicago:20290905T000000
DTEND;TZID=America/Chicago:20290905T235959
DTSTAMP:20260424T110242
CREATED:20250311T184645Z
LAST-MODIFIED:20260330T133455Z
UID:10004512-1883260800-1883347199@balefirewealth.com
SUMMARY:James Mars Birthday
DESCRIPTION:
URL:https://balefirewealth.com/event/james-mars-birthday/2029-09-05/
CATEGORIES:Birthdays
ATTACH;FMTTYPE=image/webp:https://balefirewealth.com/wp-content/uploads/2025/10/mars-jim.webp
END:VEVENT
BEGIN:VEVENT
DTSTART;TZID=America/Chicago:20300905T000000
DTEND;TZID=America/Chicago:20300905T235959
DTSTAMP:20260424T110242
CREATED:20250311T184645Z
LAST-MODIFIED:20260330T133455Z
UID:10004513-1914796800-1914883199@balefirewealth.com
SUMMARY:James Mars Birthday
DESCRIPTION:
URL:https://balefirewealth.com/event/james-mars-birthday/2030-09-05/
CATEGORIES:Birthdays
ATTACH;FMTTYPE=image/webp:https://balefirewealth.com/wp-content/uploads/2025/10/mars-jim.webp
END:VEVENT
END:VCALENDAR