BEGIN:VCALENDAR
VERSION:2.0
PRODID:-//Balefire Wealth - ECPv6.15.20//NONSGML v1.0//EN
CALSCALE:GREGORIAN
METHOD:PUBLISH
X-WR-CALNAME:Balefire Wealth
X-ORIGINAL-URL:https://balefirewealth.com
X-WR-CALDESC:Events for Balefire Wealth
REFRESH-INTERVAL;VALUE=DURATION:PT1H
X-Robots-Tag:noindex
X-PUBLISHED-TTL:PT1H
BEGIN:VTIMEZONE
TZID:America/Chicago
BEGIN:DAYLIGHT
TZOFFSETFROM:-0600
TZOFFSETTO:-0500
TZNAME:CDT
DTSTART:20260308T080000
END:DAYLIGHT
BEGIN:STANDARD
TZOFFSETFROM:-0500
TZOFFSETTO:-0600
TZNAME:CST
DTSTART:20261101T070000
END:STANDARD
BEGIN:DAYLIGHT
TZOFFSETFROM:-0600
TZOFFSETTO:-0500
TZNAME:CDT
DTSTART:20270314T080000
END:DAYLIGHT
BEGIN:STANDARD
TZOFFSETFROM:-0500
TZOFFSETTO:-0600
TZNAME:CST
DTSTART:20271107T070000
END:STANDARD
BEGIN:DAYLIGHT
TZOFFSETFROM:-0600
TZOFFSETTO:-0500
TZNAME:CDT
DTSTART:20280312T080000
END:DAYLIGHT
BEGIN:STANDARD
TZOFFSETFROM:-0500
TZOFFSETTO:-0600
TZNAME:CST
DTSTART:20281105T070000
END:STANDARD
BEGIN:DAYLIGHT
TZOFFSETFROM:-0600
TZOFFSETTO:-0500
TZNAME:CDT
DTSTART:20290311T080000
END:DAYLIGHT
BEGIN:STANDARD
TZOFFSETFROM:-0500
TZOFFSETTO:-0600
TZNAME:CST
DTSTART:20291104T070000
END:STANDARD
BEGIN:DAYLIGHT
TZOFFSETFROM:-0600
TZOFFSETTO:-0500
TZNAME:CDT
DTSTART:20300310T080000
END:DAYLIGHT
BEGIN:STANDARD
TZOFFSETFROM:-0500
TZOFFSETTO:-0600
TZNAME:CST
DTSTART:20301103T070000
END:STANDARD
BEGIN:DAYLIGHT
TZOFFSETFROM:-0600
TZOFFSETTO:-0500
TZNAME:CDT
DTSTART:20310309T080000
END:DAYLIGHT
BEGIN:STANDARD
TZOFFSETFROM:-0500
TZOFFSETTO:-0600
TZNAME:CST
DTSTART:20311102T070000
END:STANDARD
BEGIN:DAYLIGHT
TZOFFSETFROM:-0600
TZOFFSETTO:-0500
TZNAME:CDT
DTSTART:20320314T080000
END:DAYLIGHT
BEGIN:STANDARD
TZOFFSETFROM:-0500
TZOFFSETTO:-0600
TZNAME:CST
DTSTART:20321107T070000
END:STANDARD
END:VTIMEZONE
BEGIN:VEVENT
DTSTART;TZID=America/Chicago:20270308T080000
DTEND;TZID=America/Chicago:20270308T170000
DTSTAMP:20260424T144513
CREATED:20250311T190401Z
LAST-MODIFIED:20260330T133330Z
UID:10004696-1804492800-1804525200@balefirewealth.com
SUMMARY:Pete Peterson Birthday
DESCRIPTION:
URL:https://balefirewealth.com/event/pete-peterson-birthday/2027-03-08/
CATEGORIES:Birthdays
ATTACH;FMTTYPE=image/webp:https://balefirewealth.com/wp-content/uploads/2025/10/peterson-pete.webp
END:VEVENT
BEGIN:VEVENT
DTSTART;TZID=America/Chicago:20280308T080000
DTEND;TZID=America/Chicago:20280308T170000
DTSTAMP:20260424T144513
CREATED:20250311T190401Z
LAST-MODIFIED:20260330T133330Z
UID:10004697-1836115200-1836147600@balefirewealth.com
SUMMARY:Pete Peterson Birthday
DESCRIPTION:
URL:https://balefirewealth.com/event/pete-peterson-birthday/2028-03-08/
CATEGORIES:Birthdays
ATTACH;FMTTYPE=image/webp:https://balefirewealth.com/wp-content/uploads/2025/10/peterson-pete.webp
END:VEVENT
BEGIN:VEVENT
DTSTART;TZID=America/Chicago:20290308T080000
DTEND;TZID=America/Chicago:20290308T170000
DTSTAMP:20260424T144513
CREATED:20250311T190401Z
LAST-MODIFIED:20260330T133330Z
UID:10004698-1867651200-1867683600@balefirewealth.com
SUMMARY:Pete Peterson Birthday
DESCRIPTION:
URL:https://balefirewealth.com/event/pete-peterson-birthday/2029-03-08/
CATEGORIES:Birthdays
ATTACH;FMTTYPE=image/webp:https://balefirewealth.com/wp-content/uploads/2025/10/peterson-pete.webp
END:VEVENT
BEGIN:VEVENT
DTSTART;TZID=America/Chicago:20300308T080000
DTEND;TZID=America/Chicago:20300308T170000
DTSTAMP:20260424T144513
CREATED:20250311T190401Z
LAST-MODIFIED:20260330T133330Z
UID:10004699-1899187200-1899219600@balefirewealth.com
SUMMARY:Pete Peterson Birthday
DESCRIPTION:
URL:https://balefirewealth.com/event/pete-peterson-birthday/2030-03-08/
CATEGORIES:Birthdays
ATTACH;FMTTYPE=image/webp:https://balefirewealth.com/wp-content/uploads/2025/10/peterson-pete.webp
END:VEVENT
BEGIN:VEVENT
DTSTART;TZID=America/Chicago:20310308T080000
DTEND;TZID=America/Chicago:20310308T170000
DTSTAMP:20260424T144513
CREATED:20250311T190401Z
LAST-MODIFIED:20260330T133330Z
UID:10004700-1930723200-1930755600@balefirewealth.com
SUMMARY:Pete Peterson Birthday
DESCRIPTION:
URL:https://balefirewealth.com/event/pete-peterson-birthday/2031-03-08/
CATEGORIES:Birthdays
ATTACH;FMTTYPE=image/webp:https://balefirewealth.com/wp-content/uploads/2025/10/peterson-pete.webp
END:VEVENT
END:VCALENDAR