BEGIN:VCALENDAR
VERSION:2.0
PRODID:-//Balefire Wealth - ECPv6.15.20//NONSGML v1.0//EN
CALSCALE:GREGORIAN
METHOD:PUBLISH
X-WR-CALNAME:Balefire Wealth
X-ORIGINAL-URL:https://balefirewealth.com
X-WR-CALDESC:Events for Balefire Wealth
REFRESH-INTERVAL;VALUE=DURATION:PT1H
X-Robots-Tag:noindex
X-PUBLISHED-TTL:PT1H
BEGIN:VTIMEZONE
TZID:America/Chicago
BEGIN:DAYLIGHT
TZOFFSETFROM:-0600
TZOFFSETTO:-0500
TZNAME:CDT
DTSTART:20250309T080000
END:DAYLIGHT
BEGIN:STANDARD
TZOFFSETFROM:-0500
TZOFFSETTO:-0600
TZNAME:CST
DTSTART:20251102T070000
END:STANDARD
BEGIN:DAYLIGHT
TZOFFSETFROM:-0600
TZOFFSETTO:-0500
TZNAME:CDT
DTSTART:20260308T080000
END:DAYLIGHT
BEGIN:STANDARD
TZOFFSETFROM:-0500
TZOFFSETTO:-0600
TZNAME:CST
DTSTART:20261101T070000
END:STANDARD
BEGIN:DAYLIGHT
TZOFFSETFROM:-0600
TZOFFSETTO:-0500
TZNAME:CDT
DTSTART:20270314T080000
END:DAYLIGHT
BEGIN:STANDARD
TZOFFSETFROM:-0500
TZOFFSETTO:-0600
TZNAME:CST
DTSTART:20271107T070000
END:STANDARD
BEGIN:DAYLIGHT
TZOFFSETFROM:-0600
TZOFFSETTO:-0500
TZNAME:CDT
DTSTART:20280312T080000
END:DAYLIGHT
BEGIN:STANDARD
TZOFFSETFROM:-0500
TZOFFSETTO:-0600
TZNAME:CST
DTSTART:20281105T070000
END:STANDARD
BEGIN:DAYLIGHT
TZOFFSETFROM:-0600
TZOFFSETTO:-0500
TZNAME:CDT
DTSTART:20290311T080000
END:DAYLIGHT
BEGIN:STANDARD
TZOFFSETFROM:-0500
TZOFFSETTO:-0600
TZNAME:CST
DTSTART:20291104T070000
END:STANDARD
BEGIN:DAYLIGHT
TZOFFSETFROM:-0600
TZOFFSETTO:-0500
TZNAME:CDT
DTSTART:20300310T080000
END:DAYLIGHT
BEGIN:STANDARD
TZOFFSETFROM:-0500
TZOFFSETTO:-0600
TZNAME:CST
DTSTART:20301103T070000
END:STANDARD
BEGIN:DAYLIGHT
TZOFFSETFROM:-0600
TZOFFSETTO:-0500
TZNAME:CDT
DTSTART:20310309T080000
END:DAYLIGHT
BEGIN:STANDARD
TZOFFSETFROM:-0500
TZOFFSETTO:-0600
TZNAME:CST
DTSTART:20311102T070000
END:STANDARD
END:VTIMEZONE
BEGIN:VEVENT
DTSTART;TZID=America/Chicago:20261210T000000
DTEND;TZID=America/Chicago:20261210T235959
DTSTAMP:20260420T122847
CREATED:20250311T192303Z
LAST-MODIFIED:20260330T133257Z
UID:10004873-1796860800-1796947199@balefirewealth.com
SUMMARY:William Kientz Birthday
DESCRIPTION:
URL:https://balefirewealth.com/event/william-kientz-birthday/2026-12-10/
CATEGORIES:Birthdays
ATTACH;FMTTYPE=image/webp:https://balefirewealth.com/wp-content/uploads/2026/03/bill-kientz-centered-square.webp
END:VEVENT
BEGIN:VEVENT
DTSTART;TZID=America/Chicago:20271210T000000
DTEND;TZID=America/Chicago:20271210T235959
DTSTAMP:20260420T122847
CREATED:20250311T192303Z
LAST-MODIFIED:20260330T133257Z
UID:10004874-1828396800-1828483199@balefirewealth.com
SUMMARY:William Kientz Birthday
DESCRIPTION:
URL:https://balefirewealth.com/event/william-kientz-birthday/2027-12-10/
CATEGORIES:Birthdays
ATTACH;FMTTYPE=image/webp:https://balefirewealth.com/wp-content/uploads/2026/03/bill-kientz-centered-square.webp
END:VEVENT
BEGIN:VEVENT
DTSTART;TZID=America/Chicago:20281210T000000
DTEND;TZID=America/Chicago:20281210T235959
DTSTAMP:20260420T122847
CREATED:20250311T192303Z
LAST-MODIFIED:20260330T133257Z
UID:10004875-1860019200-1860105599@balefirewealth.com
SUMMARY:William Kientz Birthday
DESCRIPTION:
URL:https://balefirewealth.com/event/william-kientz-birthday/2028-12-10/
CATEGORIES:Birthdays
ATTACH;FMTTYPE=image/webp:https://balefirewealth.com/wp-content/uploads/2026/03/bill-kientz-centered-square.webp
END:VEVENT
BEGIN:VEVENT
DTSTART;TZID=America/Chicago:20291210T000000
DTEND;TZID=America/Chicago:20291210T235959
DTSTAMP:20260420T122847
CREATED:20250311T192303Z
LAST-MODIFIED:20260330T133257Z
UID:10004876-1891555200-1891641599@balefirewealth.com
SUMMARY:William Kientz Birthday
DESCRIPTION:
URL:https://balefirewealth.com/event/william-kientz-birthday/2029-12-10/
CATEGORIES:Birthdays
ATTACH;FMTTYPE=image/webp:https://balefirewealth.com/wp-content/uploads/2026/03/bill-kientz-centered-square.webp
END:VEVENT
BEGIN:VEVENT
DTSTART;TZID=America/Chicago:20301210T000000
DTEND;TZID=America/Chicago:20301210T235959
DTSTAMP:20260420T122847
CREATED:20250311T192303Z
LAST-MODIFIED:20260330T133257Z
UID:10004877-1923091200-1923177599@balefirewealth.com
SUMMARY:William Kientz Birthday
DESCRIPTION:
URL:https://balefirewealth.com/event/william-kientz-birthday/2030-12-10/
CATEGORIES:Birthdays
ATTACH;FMTTYPE=image/webp:https://balefirewealth.com/wp-content/uploads/2026/03/bill-kientz-centered-square.webp
END:VEVENT
END:VCALENDAR