BEGIN:VCALENDAR
VERSION:2.0
PRODID:-//Balefire Wealth - ECPv6.15.20//NONSGML v1.0//EN
CALSCALE:GREGORIAN
METHOD:PUBLISH
X-WR-CALNAME:Balefire Wealth
X-ORIGINAL-URL:https://balefirewealth.com
X-WR-CALDESC:Events for Balefire Wealth
REFRESH-INTERVAL;VALUE=DURATION:PT1H
X-Robots-Tag:noindex
X-PUBLISHED-TTL:PT1H
BEGIN:VTIMEZONE
TZID:America/Chicago
BEGIN:DAYLIGHT
TZOFFSETFROM:-0600
TZOFFSETTO:-0500
TZNAME:CDT
DTSTART:20250309T080000
END:DAYLIGHT
BEGIN:STANDARD
TZOFFSETFROM:-0500
TZOFFSETTO:-0600
TZNAME:CST
DTSTART:20251102T070000
END:STANDARD
BEGIN:DAYLIGHT
TZOFFSETFROM:-0600
TZOFFSETTO:-0500
TZNAME:CDT
DTSTART:20260308T080000
END:DAYLIGHT
BEGIN:STANDARD
TZOFFSETFROM:-0500
TZOFFSETTO:-0600
TZNAME:CST
DTSTART:20261101T070000
END:STANDARD
BEGIN:DAYLIGHT
TZOFFSETFROM:-0600
TZOFFSETTO:-0500
TZNAME:CDT
DTSTART:20270314T080000
END:DAYLIGHT
BEGIN:STANDARD
TZOFFSETFROM:-0500
TZOFFSETTO:-0600
TZNAME:CST
DTSTART:20271107T070000
END:STANDARD
BEGIN:DAYLIGHT
TZOFFSETFROM:-0600
TZOFFSETTO:-0500
TZNAME:CDT
DTSTART:20280312T080000
END:DAYLIGHT
BEGIN:STANDARD
TZOFFSETFROM:-0500
TZOFFSETTO:-0600
TZNAME:CST
DTSTART:20281105T070000
END:STANDARD
BEGIN:DAYLIGHT
TZOFFSETFROM:-0600
TZOFFSETTO:-0500
TZNAME:CDT
DTSTART:20290311T080000
END:DAYLIGHT
BEGIN:STANDARD
TZOFFSETFROM:-0500
TZOFFSETTO:-0600
TZNAME:CST
DTSTART:20291104T070000
END:STANDARD
BEGIN:DAYLIGHT
TZOFFSETFROM:-0600
TZOFFSETTO:-0500
TZNAME:CDT
DTSTART:20300310T080000
END:DAYLIGHT
BEGIN:STANDARD
TZOFFSETFROM:-0500
TZOFFSETTO:-0600
TZNAME:CST
DTSTART:20301103T070000
END:STANDARD
BEGIN:DAYLIGHT
TZOFFSETFROM:-0600
TZOFFSETTO:-0500
TZNAME:CDT
DTSTART:20310309T080000
END:DAYLIGHT
BEGIN:STANDARD
TZOFFSETFROM:-0500
TZOFFSETTO:-0600
TZNAME:CST
DTSTART:20311102T070000
END:STANDARD
END:VTIMEZONE
BEGIN:VEVENT
DTSTART;TZID=America/Chicago:20260617T000000
DTEND;TZID=America/Chicago:20260617T235959
DTSTAMP:20260424T084638
CREATED:20250609T232000Z
LAST-MODIFIED:20260330T133240Z
UID:10005068-1781654400-1781740799@balefirewealth.com
SUMMARY:Scott Munger Birthday
DESCRIPTION:
URL:https://balefirewealth.com/event/scott-munger-birthday/2026-06-17/
CATEGORIES:Birthdays
ATTACH;FMTTYPE=image/webp:https://balefirewealth.com/wp-content/uploads/2026/03/scott-munger-square.webp
END:VEVENT
BEGIN:VEVENT
DTSTART;TZID=America/Chicago:20270617T000000
DTEND;TZID=America/Chicago:20270617T235959
DTSTAMP:20260424T084638
CREATED:20250609T232000Z
LAST-MODIFIED:20260330T133240Z
UID:10005069-1813190400-1813276799@balefirewealth.com
SUMMARY:Scott Munger Birthday
DESCRIPTION:
URL:https://balefirewealth.com/event/scott-munger-birthday/2027-06-17/
CATEGORIES:Birthdays
ATTACH;FMTTYPE=image/webp:https://balefirewealth.com/wp-content/uploads/2026/03/scott-munger-square.webp
END:VEVENT
BEGIN:VEVENT
DTSTART;TZID=America/Chicago:20280617T000000
DTEND;TZID=America/Chicago:20280617T235959
DTSTAMP:20260424T084638
CREATED:20250609T232000Z
LAST-MODIFIED:20260330T133240Z
UID:10005070-1844812800-1844899199@balefirewealth.com
SUMMARY:Scott Munger Birthday
DESCRIPTION:
URL:https://balefirewealth.com/event/scott-munger-birthday/2028-06-17/
CATEGORIES:Birthdays
ATTACH;FMTTYPE=image/webp:https://balefirewealth.com/wp-content/uploads/2026/03/scott-munger-square.webp
END:VEVENT
BEGIN:VEVENT
DTSTART;TZID=America/Chicago:20290617T000000
DTEND;TZID=America/Chicago:20290617T235959
DTSTAMP:20260424T084638
CREATED:20250609T232000Z
LAST-MODIFIED:20260330T133240Z
UID:10005071-1876348800-1876435199@balefirewealth.com
SUMMARY:Scott Munger Birthday
DESCRIPTION:
URL:https://balefirewealth.com/event/scott-munger-birthday/2029-06-17/
CATEGORIES:Birthdays
ATTACH;FMTTYPE=image/webp:https://balefirewealth.com/wp-content/uploads/2026/03/scott-munger-square.webp
END:VEVENT
BEGIN:VEVENT
DTSTART;TZID=America/Chicago:20300617T000000
DTEND;TZID=America/Chicago:20300617T235959
DTSTAMP:20260424T084638
CREATED:20250609T232000Z
LAST-MODIFIED:20260330T133240Z
UID:10005072-1907884800-1907971199@balefirewealth.com
SUMMARY:Scott Munger Birthday
DESCRIPTION:
URL:https://balefirewealth.com/event/scott-munger-birthday/2030-06-17/
CATEGORIES:Birthdays
ATTACH;FMTTYPE=image/webp:https://balefirewealth.com/wp-content/uploads/2026/03/scott-munger-square.webp
END:VEVENT
END:VCALENDAR