BEGIN:VCALENDAR
VERSION:2.0
PRODID:-//Balefire Wealth - ECPv6.15.20//NONSGML v1.0//EN
CALSCALE:GREGORIAN
METHOD:PUBLISH
X-ORIGINAL-URL:https://balefirewealth.com
X-WR-CALDESC:Events for Balefire Wealth
REFRESH-INTERVAL;VALUE=DURATION:PT1H
X-Robots-Tag:noindex
X-PUBLISHED-TTL:PT1H
BEGIN:VTIMEZONE
TZID:America/Chicago
BEGIN:DAYLIGHT
TZOFFSETFROM:-0600
TZOFFSETTO:-0500
TZNAME:CDT
DTSTART:20250309T080000
END:DAYLIGHT
BEGIN:STANDARD
TZOFFSETFROM:-0500
TZOFFSETTO:-0600
TZNAME:CST
DTSTART:20251102T070000
END:STANDARD
BEGIN:DAYLIGHT
TZOFFSETFROM:-0600
TZOFFSETTO:-0500
TZNAME:CDT
DTSTART:20260308T080000
END:DAYLIGHT
BEGIN:STANDARD
TZOFFSETFROM:-0500
TZOFFSETTO:-0600
TZNAME:CST
DTSTART:20261101T070000
END:STANDARD
BEGIN:DAYLIGHT
TZOFFSETFROM:-0600
TZOFFSETTO:-0500
TZNAME:CDT
DTSTART:20270314T080000
END:DAYLIGHT
BEGIN:STANDARD
TZOFFSETFROM:-0500
TZOFFSETTO:-0600
TZNAME:CST
DTSTART:20271107T070000
END:STANDARD
END:VTIMEZONE
BEGIN:VEVENT
DTSTART;TZID=America/Chicago:20260421T000000
DTEND;TZID=America/Chicago:20260424T235959
DTSTAMP:20260424T125620
CREATED:20260419T212440Z
LAST-MODIFIED:20260422T202544Z
UID:10005321-1776729600-1777075199@balefirewealth.com
SUMMARY:Brian Smith Out of Office (04/21/2026)
DESCRIPTION:Brian Smith will be out of the office from 04/21/2026 to 04/24/2026.
URL:https://balefirewealth.com/event/brian-smith-out-of-office-04-21-2026/
CATEGORIES:Out of Office
END:VEVENT
BEGIN:VEVENT
DTSTART;TZID=America/Chicago:20260424T000000
DTEND;TZID=America/Chicago:20260424T235959
DTSTAMP:20260424T125620
CREATED:20260408T125302Z
LAST-MODIFIED:20260422T202523Z
UID:10005313-1776988800-1777075199@balefirewealth.com
SUMMARY:Kendra Foster Out of Office (04/24/2026)
DESCRIPTION:Kendra Foster will be out of the office from 04/24/2026 to 04/24/2026.
URL:https://balefirewealth.com/event/kendra-foster-out-of-office-04-24-2026/
CATEGORIES:Out of Office
END:VEVENT
BEGIN:VEVENT
DTSTART;TZID=America/Chicago:20260427T000000
DTEND;TZID=America/Chicago:20260428T235959
DTSTAMP:20260424T125620
CREATED:20260403T145306Z
LAST-MODIFIED:20260422T202515Z
UID:10005310-1777248000-1777420799@balefirewealth.com
SUMMARY:Brandon Hooth Out of Office (07/27/2026)
DESCRIPTION:Brandon Hooth will be out of the office from 07/27/2026 to 04/28/2026.
URL:https://balefirewealth.com/event/brandon-hooth-out-of-office-07-27-2026/
CATEGORIES:Out of Office
END:VEVENT
BEGIN:VEVENT
DTSTART;TZID=America/Chicago:20260430T000000
DTEND;TZID=America/Chicago:20260504T235959
DTSTAMP:20260424T125620
CREATED:20260320T020103Z
LAST-MODIFIED:20260320T020103Z
UID:10005303-1777507200-1777939199@balefirewealth.com
SUMMARY:Susan Westerholm Out of Office (04/30/2026)
DESCRIPTION:Susan Westerholm will be out of the office from 04/30/2026 to 05/04/2026.
URL:https://balefirewealth.com/event/susan-westerholm-out-of-office-04-30-2026/
CATEGORIES:Out of Office
END:VEVENT
BEGIN:VEVENT
DTSTART;TZID=America/Chicago:20260501T000000
DTEND;TZID=America/Chicago:20260501T235959
DTSTAMP:20260424T125620
CREATED:20251222T211706Z
LAST-MODIFIED:20251222T211706Z
UID:10005217-1777593600-1777679999@balefirewealth.com
SUMMARY:Imelda Rangel Out of Office (05/01/2026)
DESCRIPTION:Imelda Rangel will be out of the office from 05/01/2026 to 05/01/2026.
URL:https://balefirewealth.com/event/imelda-rangel-out-of-office-05-01-2026/
CATEGORIES:Out of Office
END:VEVENT
BEGIN:VEVENT
DTSTART;TZID=America/Chicago:20260504T000000
DTEND;TZID=America/Chicago:20260504T235959
DTSTAMP:20260424T125620
CREATED:20260409T205224Z
LAST-MODIFIED:20260422T202527Z
UID:10005315-1777852800-1777939199@balefirewealth.com
SUMMARY:Christina Steigauf Out of Office (05/04/2026)
DESCRIPTION:Christina Steigauf will be out of the office from 05/04/2026 to 05/04/2026.
URL:https://balefirewealth.com/event/christina-steigauf-out-of-office-05-04-2026/
CATEGORIES:Out of Office
END:VEVENT
BEGIN:VEVENT
DTSTART;TZID=America/Chicago:20260504T000000
DTEND;TZID=America/Chicago:20260504T235959
DTSTAMP:20260424T125620
CREATED:20260422T194537Z
LAST-MODIFIED:20260422T202555Z
UID:10005324-1777852800-1777939199@balefirewealth.com
SUMMARY:Christina Steigauf Out of Office (05/04/2026)
DESCRIPTION:Christina Steigauf will be out of the office from 05/04/2026 to 05/04/2026.
URL:https://balefirewealth.com/event/christina-steigauf-out-of-office-05-04-2026-2/
CATEGORIES:Out of Office
END:VEVENT
BEGIN:VEVENT
DTSTART;TZID=America/Chicago:20260508T000000
DTEND;TZID=America/Chicago:20260508T235959
DTSTAMP:20260424T125620
CREATED:20260406T163633Z
LAST-MODIFIED:20260422T202518Z
UID:10005311-1778198400-1778284799@balefirewealth.com
SUMMARY:Katie Enloe Out of Office (05/08/2026)
DESCRIPTION:Katie Enloe will be out of the office from 05/08/2026 to 05/08/2026.
URL:https://balefirewealth.com/event/katie-enloe-out-of-office-05-08-2026/
CATEGORIES:Out of Office
END:VEVENT
BEGIN:VEVENT
DTSTART;TZID=America/Chicago:20260511T000000
DTEND;TZID=America/Chicago:20260511T235959
DTSTAMP:20260424T125620
CREATED:20250627T191507Z
LAST-MODIFIED:20250627T191507Z
UID:10005075-1778457600-1778543999@balefirewealth.com
SUMMARY:Jeanne Dortch Out of Office (05/11/2026)
DESCRIPTION:Jeanne Dortch will be out of the office from 05/11/2026 to 05/11/2026.
URL:https://balefirewealth.com/event/jeanne-dortch-out-of-office-05-11-2026/
CATEGORIES:Out of Office
END:VEVENT
BEGIN:VEVENT
DTSTART;TZID=America/Chicago:20260511T000000
DTEND;TZID=America/Chicago:20260519T235959
DTSTAMP:20260424T125620
CREATED:20251021T003605Z
LAST-MODIFIED:20251021T003605Z
UID:10005122-1778457600-1779235199@balefirewealth.com
SUMMARY:Imelda Rangel Out of Office (05/11/2026)
DESCRIPTION:Imelda Rangel will be out of the office from 05/11/2026 to 05/19/2026.
URL:https://balefirewealth.com/event/imelda-rangel-out-of-office-05-11-2026/
CATEGORIES:Out of Office
END:VEVENT
BEGIN:VEVENT
DTSTART;TZID=America/Chicago:20260515T000000
DTEND;TZID=America/Chicago:20260515T235959
DTSTAMP:20260424T125620
CREATED:20250627T191550Z
LAST-MODIFIED:20250627T191550Z
UID:10005076-1778803200-1778889599@balefirewealth.com
SUMMARY:Jeanne Dortch Out of Office (05/15/2026)
DESCRIPTION:Jeanne Dortch will be out of the office from 05/15/2026 to 05/15/2026.
URL:https://balefirewealth.com/event/jeanne-dortch-out-of-office-05-15-2026/
CATEGORIES:Out of Office
END:VEVENT
BEGIN:VEVENT
DTSTART;TZID=America/Chicago:20260518T000000
DTEND;TZID=America/Chicago:20260522T235959
DTSTAMP:20260424T125620
CREATED:20260112T200737Z
LAST-MODIFIED:20260112T200737Z
UID:10005231-1779062400-1779494399@balefirewealth.com
SUMMARY:Crystal Scott Out of Office (05/18/2026)
DESCRIPTION:Crystal Scott will be out of the office from 05/18/2026 to 05/22/2026.
URL:https://balefirewealth.com/event/crystal-scott-out-of-office-05-18-2026/
CATEGORIES:Out of Office
END:VEVENT
BEGIN:VEVENT
DTSTART;TZID=America/Chicago:20260518T000000
DTEND;TZID=America/Chicago:20260522T235959
DTSTAMP:20260424T125621
CREATED:20260122T224212Z
LAST-MODIFIED:20260122T224212Z
UID:10005235-1779062400-1779494399@balefirewealth.com
SUMMARY:Crystal Scott Out of Office (05/18/2026)
DESCRIPTION:Crystal Scott will be out of the office from 05/18/2026 to 05/22/2026.
URL:https://balefirewealth.com/event/crystal-scott-out-of-office-05-18-2026-2/
CATEGORIES:Out of Office
END:VEVENT
BEGIN:VEVENT
DTSTART;TZID=America/Chicago:20260518T000000
DTEND;TZID=America/Chicago:20260522T235959
DTSTAMP:20260424T125621
CREATED:20260302T011411Z
LAST-MODIFIED:20260302T011411Z
UID:10005289-1779062400-1779494399@balefirewealth.com
SUMMARY:Charlene Smith Out of Office (05/18/2026)
DESCRIPTION:Charlene Smith will be out of the office from 05/18/2026 to 05/22/2026.
URL:https://balefirewealth.com/event/charlene-smith-out-of-office-05-18-2026/
CATEGORIES:Out of Office
END:VEVENT
BEGIN:VEVENT
DTSTART;TZID=America/Chicago:20260520T000000
DTEND;TZID=America/Chicago:20260527T235959
DTSTAMP:20260424T125621
CREATED:20251006T190829Z
LAST-MODIFIED:20251006T190829Z
UID:10005112-1779235200-1779926399@balefirewealth.com
SUMMARY:Charlene Smith Out of Office (05/20/2026)
DESCRIPTION:Charlene Smith will be out of the office from 05/20/2026 to 05/27/2026.
URL:https://balefirewealth.com/event/charlene-smith-out-of-office-05-20-2026/
CATEGORIES:Out of Office
END:VEVENT
BEGIN:VEVENT
DTSTART;TZID=America/Chicago:20260521T000000
DTEND;TZID=America/Chicago:20260522T235959
DTSTAMP:20260424T125621
CREATED:20260414T213505Z
LAST-MODIFIED:20260422T202539Z
UID:10005319-1779321600-1779494399@balefirewealth.com
SUMMARY:Tom Hannon Out of Office (05/21/2026)
DESCRIPTION:Tom Hannon will be out of the office from 05/21/2026 to 05/22/2026.
URL:https://balefirewealth.com/event/tom-hannon-out-of-office-05-21-2026/
CATEGORIES:Out of Office
END:VEVENT
BEGIN:VEVENT
DTSTART;TZID=America/Chicago:20260522T000000
DTEND;TZID=America/Chicago:20260522T235959
DTSTAMP:20260424T125621
CREATED:20260413T175757Z
LAST-MODIFIED:20260422T202532Z
UID:10005317-1779408000-1779494399@balefirewealth.com
SUMMARY:Alana Tallarico Out of Office (05/22/2026)
DESCRIPTION:Alana Tallarico will be out of the office from 05/22/2026 to 05/22/2026.
URL:https://balefirewealth.com/event/alana-tallarico-out-of-office-05-22-2026/
CATEGORIES:Out of Office
END:VEVENT
BEGIN:VEVENT
DTSTART;TZID=America/Chicago:20260526T000000
DTEND;TZID=America/Chicago:20260529T235959
DTSTAMP:20260424T125621
CREATED:20260323T210807Z
LAST-MODIFIED:20260323T210807Z
UID:10005307-1779753600-1780099199@balefirewealth.com
SUMMARY:Erica Sutphin Out of Office (05/26/2026)
DESCRIPTION:Erica Sutphin will be out of the office from 05/26/2026 to 05/29/2026.
URL:https://balefirewealth.com/event/erica-sutphin-out-of-office-05-26-2026/
CATEGORIES:Out of Office
END:VEVENT
BEGIN:VEVENT
DTSTART;TZID=America/Chicago:20260601T000000
DTEND;TZID=America/Chicago:20260605T235959
DTSTAMP:20260424T125621
CREATED:20251211T221958Z
LAST-MODIFIED:20251211T221958Z
UID:10005153-1780272000-1780703999@balefirewealth.com
SUMMARY:Amber Fluit Out of Office (06/01/2026)
DESCRIPTION:Amber Fluit will be out of the office from 06/01/2026 to 06/05/2026.
URL:https://balefirewealth.com/event/amber-fluit-out-of-office-06-01-2026/
CATEGORIES:Out of Office
END:VEVENT
BEGIN:VEVENT
DTSTART;TZID=America/Chicago:20260603T000000
DTEND;TZID=America/Chicago:20260603T235959
DTSTAMP:20260424T125621
CREATED:20260422T194621Z
LAST-MODIFIED:20260422T202557Z
UID:10005325-1780444800-1780531199@balefirewealth.com
SUMMARY:Christina Steigauf Out of Office (06/03/2026)
DESCRIPTION:Christina Steigauf will be out of the office from 06/03/2026 to 06/03/2026.
URL:https://balefirewealth.com/event/christina-steigauf-out-of-office-06-03-2026/
CATEGORIES:Out of Office
END:VEVENT
BEGIN:VEVENT
DTSTART;TZID=America/Chicago:20260608T000000
DTEND;TZID=America/Chicago:20260613T235959
DTSTAMP:20260424T125621
CREATED:20260420T202822Z
LAST-MODIFIED:20260422T202553Z
UID:10005323-1780876800-1781395199@balefirewealth.com
SUMMARY:Brandon Hooth Out of Office (06/08/2026)
DESCRIPTION:Brandon Hooth will be out of the office from 06/08/2026 to 06/13/2026.
URL:https://balefirewealth.com/event/brandon-hooth-out-of-office-06-08-2026/
CATEGORIES:Out of Office
END:VEVENT
BEGIN:VEVENT
DTSTART;TZID=America/Chicago:20260609T000000
DTEND;TZID=America/Chicago:20260616T235959
DTSTAMP:20260424T125621
CREATED:20260302T221601Z
LAST-MODIFIED:20260302T221601Z
UID:10005291-1780963200-1781654399@balefirewealth.com
SUMMARY:Katie Enloe Out of Office (06/09/2026)
DESCRIPTION:Katie Enloe will be out of the office from 06/09/2026 to 06/16/2026.
URL:https://balefirewealth.com/event/katie-enloe-out-of-office-06-09-2026/
CATEGORIES:Out of Office
END:VEVENT
BEGIN:VEVENT
DTSTART;TZID=America/Chicago:20260615T000000
DTEND;TZID=America/Chicago:20260618T235959
DTSTAMP:20260424T125621
CREATED:20260302T213322Z
LAST-MODIFIED:20260302T213322Z
UID:10005290-1781481600-1781827199@balefirewealth.com
SUMMARY:Alana Tallarico Out of Office (06/15/2026)
DESCRIPTION:Alana Tallarico will be out of the office from 06/15/2026 to 06/18/2026.
URL:https://balefirewealth.com/event/alana-tallarico-out-of-office-06-15-2026/
CATEGORIES:Out of Office
END:VEVENT
BEGIN:VEVENT
DTSTART;TZID=America/Chicago:20260615T000000
DTEND;TZID=America/Chicago:20260701T235959
DTSTAMP:20260424T125621
CREATED:20260413T194643Z
LAST-MODIFIED:20260422T202537Z
UID:10005318-1781481600-1782950399@balefirewealth.com
SUMMARY:Lori Kinsley Out of Office (06/15/2026)
DESCRIPTION:Lori Kinsley will be out of the office from 06/15/2026 to 07/01/2026.
URL:https://balefirewealth.com/event/lori-kinsley-out-of-office-06-15-2026/
CATEGORIES:Out of Office
END:VEVENT
BEGIN:VEVENT
DTSTART;TZID=America/Chicago:20260618T000000
DTEND;TZID=America/Chicago:20260619T235959
DTSTAMP:20260424T125621
CREATED:20251222T225433Z
LAST-MODIFIED:20251222T225433Z
UID:10005221-1781740800-1781913599@balefirewealth.com
SUMMARY:Amber Fluit Out of Office (06/18/2026)
DESCRIPTION:Amber Fluit will be out of the office from 06/18/2026 to 06/19/2026.
URL:https://balefirewealth.com/event/amber-fluit-out-of-office-06-18-2026/
CATEGORIES:Out of Office
END:VEVENT
BEGIN:VEVENT
DTSTART;TZID=America/Chicago:20260619T000000
DTEND;TZID=America/Chicago:20260619T235959
DTSTAMP:20260424T125621
CREATED:20251222T211808Z
LAST-MODIFIED:20251222T211808Z
UID:10005218-1781827200-1781913599@balefirewealth.com
SUMMARY:Imelda Rangel Out of Office (06/19/2026)
DESCRIPTION:Imelda Rangel will be out of the office from 06/19/2026 to 06/19/2026.
URL:https://balefirewealth.com/event/imelda-rangel-out-of-office-06-19-2026/
CATEGORIES:Out of Office
END:VEVENT
BEGIN:VEVENT
DTSTART;TZID=America/Chicago:20260619T000000
DTEND;TZID=America/Chicago:20260623T235959
DTSTAMP:20260424T125621
CREATED:20250627T191622Z
LAST-MODIFIED:20250627T191622Z
UID:10005077-1781827200-1782259199@balefirewealth.com
SUMMARY:Jeanne Dortch Out of Office (06/19/2026)
DESCRIPTION:Jeanne Dortch will be out of the office from 06/19/2026 to 06/23/2026.
URL:https://balefirewealth.com/event/jeanne-dortch-out-of-office-06-19-2026/
CATEGORIES:Out of Office
END:VEVENT
BEGIN:VEVENT
DTSTART;TZID=America/Chicago:20260706T000000
DTEND;TZID=America/Chicago:20260707T235959
DTSTAMP:20260424T125621
CREATED:20260422T194646Z
LAST-MODIFIED:20260422T202600Z
UID:10005326-1783296000-1783468799@balefirewealth.com
SUMMARY:Christina Steigauf Out of Office (07/06/2026)
DESCRIPTION:Christina Steigauf will be out of the office from 07/06/2026 to 07/07/2026.
URL:https://balefirewealth.com/event/christina-steigauf-out-of-office-07-06-2026/
CATEGORIES:Out of Office
END:VEVENT
BEGIN:VEVENT
DTSTART;TZID=America/Chicago:20260709T000000
DTEND;TZID=America/Chicago:20260710T235959
DTSTAMP:20260424T125621
CREATED:20260414T213550Z
LAST-MODIFIED:20260422T202541Z
UID:10005320-1783555200-1783727999@balefirewealth.com
SUMMARY:Tom Hannon Out of Office (07/09/2026)
DESCRIPTION:Tom Hannon will be out of the office from 07/09/2026 to 07/10/2026.
URL:https://balefirewealth.com/event/tom-hannon-out-of-office-07-09-2026/
CATEGORIES:Out of Office
END:VEVENT
BEGIN:VEVENT
DTSTART;TZID=America/Chicago:20260709T000000
DTEND;TZID=America/Chicago:20260714T235959
DTSTAMP:20260424T125621
CREATED:20260226T023702Z
LAST-MODIFIED:20260226T023702Z
UID:10005286-1783555200-1784073599@balefirewealth.com
SUMMARY:Brittany Collier Out of Office (07/09/2026)
DESCRIPTION:Brittany Collier will be out of the office from 07/09/2026 to 07/14/2026.
URL:https://balefirewealth.com/event/brittany-collier-out-of-office-07-09-2026/
CATEGORIES:Out of Office
END:VEVENT
END:VCALENDAR