BEGIN:VCALENDAR
VERSION:2.0
PRODID:-//Balefire Wealth - ECPv6.15.20//NONSGML v1.0//EN
CALSCALE:GREGORIAN
METHOD:PUBLISH
X-ORIGINAL-URL:https://balefirewealth.com
X-WR-CALDESC:Events for Balefire Wealth
REFRESH-INTERVAL;VALUE=DURATION:PT1H
X-Robots-Tag:noindex
X-PUBLISHED-TTL:PT1H
BEGIN:VTIMEZONE
TZID:America/Chicago
BEGIN:DAYLIGHT
TZOFFSETFROM:-0600
TZOFFSETTO:-0500
TZNAME:CDT
DTSTART:20240310T080000
END:DAYLIGHT
BEGIN:STANDARD
TZOFFSETFROM:-0500
TZOFFSETTO:-0600
TZNAME:CST
DTSTART:20241103T070000
END:STANDARD
BEGIN:DAYLIGHT
TZOFFSETFROM:-0600
TZOFFSETTO:-0500
TZNAME:CDT
DTSTART:20250309T080000
END:DAYLIGHT
BEGIN:STANDARD
TZOFFSETFROM:-0500
TZOFFSETTO:-0600
TZNAME:CST
DTSTART:20251102T070000
END:STANDARD
BEGIN:DAYLIGHT
TZOFFSETFROM:-0600
TZOFFSETTO:-0500
TZNAME:CDT
DTSTART:20260308T080000
END:DAYLIGHT
BEGIN:STANDARD
TZOFFSETFROM:-0500
TZOFFSETTO:-0600
TZNAME:CST
DTSTART:20261101T070000
END:STANDARD
END:VTIMEZONE
BEGIN:VEVENT
DTSTART;TZID=America/Chicago:20250704T000000
DTEND;TZID=America/Chicago:20250704T235959
DTSTAMP:20260424T005625
CREATED:20250327T234010Z
LAST-MODIFIED:20250327T234010Z
UID:10004970-1751587200-1751673599@balefirewealth.com
SUMMARY:Independence Day
DESCRIPTION:
URL:https://balefirewealth.com/event/independence-day/2025-07-04/
CATEGORIES:Office Closures
END:VEVENT
BEGIN:VEVENT
DTSTART;TZID=America/Chicago:20250619T000000
DTEND;TZID=America/Chicago:20250619T235959
DTSTAMP:20260424T005625
CREATED:20250327T233914Z
LAST-MODIFIED:20250327T233914Z
UID:10004964-1750291200-1750377599@balefirewealth.com
SUMMARY:Juneteenth National Independence Day
DESCRIPTION:
URL:https://balefirewealth.com/event/juneteenth-national-independence-day/2025-06-19/
CATEGORIES:Office Closures
END:VEVENT
BEGIN:VEVENT
DTSTART;TZID=America/Chicago:20250526T000000
DTEND;TZID=America/Chicago:20250526T235959
DTSTAMP:20260424T005625
CREATED:20250327T233812Z
LAST-MODIFIED:20250327T233812Z
UID:10004958-1748217600-1748303999@balefirewealth.com
SUMMARY:Memorial Day
DESCRIPTION:
URL:https://balefirewealth.com/event/memorial-day/2025-05-26/
CATEGORIES:Office Closures
END:VEVENT
BEGIN:VEVENT
DTSTART;TZID=America/Chicago:20250217T000000
DTEND;TZID=America/Chicago:20250217T235959
DTSTAMP:20260424T005625
CREATED:20250327T233700Z
LAST-MODIFIED:20250327T233700Z
UID:10004946-1739750400-1739836799@balefirewealth.com
SUMMARY:President's Day
DESCRIPTION:
URL:https://balefirewealth.com/event/presidents-day/2025-02-17/
CATEGORIES:Office Closures
END:VEVENT
BEGIN:VEVENT
DTSTART;TZID=America/Chicago:20250120T000000
DTEND;TZID=America/Chicago:20250120T235959
DTSTAMP:20260424T005625
CREATED:20250327T221319Z
LAST-MODIFIED:20250327T221319Z
UID:10004939-1737331200-1737417599@balefirewealth.com
SUMMARY:Martin Luther King Jr. Day
DESCRIPTION:
URL:https://balefirewealth.com/event/martin-luther-king-jr-day/2025-01-20/
CATEGORIES:Office Closures
END:VEVENT
BEGIN:VEVENT
DTSTART;TZID=America/Chicago:20250101T000000
DTEND;TZID=America/Chicago:20250101T235959
DTSTAMP:20260424T005625
CREATED:20250327T221143Z
LAST-MODIFIED:20250327T221143Z
UID:10004932-1735689600-1735775999@balefirewealth.com
SUMMARY:New Year's Day
DESCRIPTION:
URL:https://balefirewealth.com/event/new-years-day/2025-01-01/
CATEGORIES:Office Closures
END:VEVENT
END:VCALENDAR