BEGIN:VCALENDAR
VERSION:2.0
PRODID:-//Balefire Wealth - ECPv6.15.20//NONSGML v1.0//EN
CALSCALE:GREGORIAN
METHOD:PUBLISH
X-WR-CALNAME:Balefire Wealth
X-ORIGINAL-URL:https://balefirewealth.com
X-WR-CALDESC:Events for Balefire Wealth
REFRESH-INTERVAL;VALUE=DURATION:PT1H
X-Robots-Tag:noindex
X-PUBLISHED-TTL:PT1H
BEGIN:VTIMEZONE
TZID:America/Chicago
BEGIN:DAYLIGHT
TZOFFSETFROM:-0600
TZOFFSETTO:-0500
TZNAME:CDT
DTSTART:20250309T080000
END:DAYLIGHT
BEGIN:STANDARD
TZOFFSETFROM:-0500
TZOFFSETTO:-0600
TZNAME:CST
DTSTART:20251102T070000
END:STANDARD
BEGIN:DAYLIGHT
TZOFFSETFROM:-0600
TZOFFSETTO:-0500
TZNAME:CDT
DTSTART:20260308T080000
END:DAYLIGHT
BEGIN:STANDARD
TZOFFSETFROM:-0500
TZOFFSETTO:-0600
TZNAME:CST
DTSTART:20261101T070000
END:STANDARD
BEGIN:DAYLIGHT
TZOFFSETFROM:-0600
TZOFFSETTO:-0500
TZNAME:CDT
DTSTART:20270314T080000
END:DAYLIGHT
BEGIN:STANDARD
TZOFFSETFROM:-0500
TZOFFSETTO:-0600
TZNAME:CST
DTSTART:20271107T070000
END:STANDARD
BEGIN:DAYLIGHT
TZOFFSETFROM:-0600
TZOFFSETTO:-0500
TZNAME:CDT
DTSTART:20280312T080000
END:DAYLIGHT
BEGIN:STANDARD
TZOFFSETFROM:-0500
TZOFFSETTO:-0600
TZNAME:CST
DTSTART:20281105T070000
END:STANDARD
BEGIN:DAYLIGHT
TZOFFSETFROM:-0600
TZOFFSETTO:-0500
TZNAME:CDT
DTSTART:20290311T080000
END:DAYLIGHT
BEGIN:STANDARD
TZOFFSETFROM:-0500
TZOFFSETTO:-0600
TZNAME:CST
DTSTART:20291104T070000
END:STANDARD
END:VTIMEZONE
BEGIN:VEVENT
DTSTART;TZID=America/Chicago:20260525T000000
DTEND;TZID=America/Chicago:20260525T235959
DTSTAMP:20260423T135414
CREATED:20250327T233812Z
LAST-MODIFIED:20250327T233812Z
UID:10004959-1779667200-1779753599@balefirewealth.com
SUMMARY:Memorial Day
DESCRIPTION:
URL:https://balefirewealth.com/event/memorial-day/2026-05-25/
CATEGORIES:Office Closures
END:VEVENT
BEGIN:VEVENT
DTSTART;TZID=America/Chicago:20260619T000000
DTEND;TZID=America/Chicago:20260619T235959
DTSTAMP:20260423T135414
CREATED:20250327T233914Z
LAST-MODIFIED:20250327T233914Z
UID:10004965-1781827200-1781913599@balefirewealth.com
SUMMARY:Juneteenth National Independence Day
DESCRIPTION:
URL:https://balefirewealth.com/event/juneteenth-national-independence-day/2026-06-19/
CATEGORIES:Office Closures
END:VEVENT
BEGIN:VEVENT
DTSTART;TZID=America/Chicago:20260704T000000
DTEND;TZID=America/Chicago:20260704T235959
DTSTAMP:20260423T135414
CREATED:20250327T234010Z
LAST-MODIFIED:20250327T234010Z
UID:10004971-1783123200-1783209599@balefirewealth.com
SUMMARY:Independence Day
DESCRIPTION:
URL:https://balefirewealth.com/event/independence-day/2026-07-04/
CATEGORIES:Office Closures
END:VEVENT
BEGIN:VEVENT
DTSTART;TZID=America/Chicago:20260907T000000
DTEND;TZID=America/Chicago:20260907T235959
DTSTAMP:20260423T135414
CREATED:20250327T234108Z
LAST-MODIFIED:20250327T234108Z
UID:10004977-1788739200-1788825599@balefirewealth.com
SUMMARY:Labor Day
DESCRIPTION:
URL:https://balefirewealth.com/event/labor-day/2026-09-07/
CATEGORIES:Office Closures
END:VEVENT
BEGIN:VEVENT
DTSTART;TZID=America/Chicago:20261012T000000
DTEND;TZID=America/Chicago:20261012T235959
DTSTAMP:20260423T135414
CREATED:20250327T234144Z
LAST-MODIFIED:20250327T234144Z
UID:10004983-1791763200-1791849599@balefirewealth.com
SUMMARY:Columbus Day
DESCRIPTION:
URL:https://balefirewealth.com/event/columbus-day/2026-10-12/
CATEGORIES:Office Closures
END:VEVENT
BEGIN:VEVENT
DTSTART;TZID=America/Chicago:20261111T000000
DTEND;TZID=America/Chicago:20261111T235959
DTSTAMP:20260423T135414
CREATED:20250327T234249Z
LAST-MODIFIED:20250327T234249Z
UID:10004989-1794355200-1794441599@balefirewealth.com
SUMMARY:Veterans Day
DESCRIPTION:
URL:https://balefirewealth.com/event/veterans-day/2026-11-11/
CATEGORIES:Office Closures
END:VEVENT
BEGIN:VEVENT
DTSTART;TZID=America/Chicago:20261126T000000
DTEND;TZID=America/Chicago:20261126T235959
DTSTAMP:20260423T135414
CREATED:20250327T234325Z
LAST-MODIFIED:20250327T234325Z
UID:10004995-1795651200-1795737599@balefirewealth.com
SUMMARY:Thanksgiving Day
DESCRIPTION:
URL:https://balefirewealth.com/event/thanksgiving-day/2026-11-26/
CATEGORIES:Office Closures
END:VEVENT
BEGIN:VEVENT
DTSTART;TZID=America/Chicago:20261127T000000
DTEND;TZID=America/Chicago:20261127T235959
DTSTAMP:20260423T135414
CREATED:20250327T234433Z
LAST-MODIFIED:20250327T234433Z
UID:10005001-1795737600-1795823999@balefirewealth.com
SUMMARY:Day After Thanksgiving
DESCRIPTION:
URL:https://balefirewealth.com/event/day-after-thanksgiving/2026-11-27/
CATEGORIES:Office Closures
END:VEVENT
BEGIN:VEVENT
DTSTART;TZID=America/Chicago:20261224T000000
DTEND;TZID=America/Chicago:20261224T235959
DTSTAMP:20260423T135414
CREATED:20250327T234532Z
LAST-MODIFIED:20250327T234532Z
UID:10005007-1798070400-1798156799@balefirewealth.com
SUMMARY:Christmas Eve
DESCRIPTION:
URL:https://balefirewealth.com/event/christmas-eve/2026-12-24/
CATEGORIES:Office Closures
END:VEVENT
BEGIN:VEVENT
DTSTART;TZID=America/Chicago:20261225T000000
DTEND;TZID=America/Chicago:20261225T235959
DTSTAMP:20260423T135414
CREATED:20250327T234655Z
LAST-MODIFIED:20250327T234655Z
UID:10005013-1798156800-1798243199@balefirewealth.com
SUMMARY:Christmas Day
DESCRIPTION:
URL:https://balefirewealth.com/event/christmas-day/2026-12-25/
CATEGORIES:Office Closures
END:VEVENT
BEGIN:VEVENT
DTSTART;TZID=America/Chicago:20261231T000000
DTEND;TZID=America/Chicago:20261231T235959
DTSTAMP:20260423T135414
CREATED:20250327T234748Z
LAST-MODIFIED:20250327T234748Z
UID:10005019-1798675200-1798761599@balefirewealth.com
SUMMARY:New Year's Eve
DESCRIPTION:
URL:https://balefirewealth.com/event/new-years-eve/2026-12-31/
CATEGORIES:Office Closures
END:VEVENT
BEGIN:VEVENT
DTSTART;TZID=America/Chicago:20270101T000000
DTEND;TZID=America/Chicago:20270101T235959
DTSTAMP:20260423T135414
CREATED:20250327T221143Z
LAST-MODIFIED:20250327T221143Z
UID:10004934-1798761600-1798847999@balefirewealth.com
SUMMARY:New Year's Day
DESCRIPTION:
URL:https://balefirewealth.com/event/new-years-day/2027-01-01/
CATEGORIES:Office Closures
END:VEVENT
BEGIN:VEVENT
DTSTART;TZID=America/Chicago:20270118T000000
DTEND;TZID=America/Chicago:20270118T235959
DTSTAMP:20260423T135414
CREATED:20250327T221319Z
LAST-MODIFIED:20250327T221319Z
UID:10004941-1800230400-1800316799@balefirewealth.com
SUMMARY:Martin Luther King Jr. Day
DESCRIPTION:
URL:https://balefirewealth.com/event/martin-luther-king-jr-day/2027-01-18/
CATEGORIES:Office Closures
END:VEVENT
BEGIN:VEVENT
DTSTART;TZID=America/Chicago:20270215T000000
DTEND;TZID=America/Chicago:20270215T235959
DTSTAMP:20260423T135414
CREATED:20250327T233700Z
LAST-MODIFIED:20250327T233700Z
UID:10004948-1802649600-1802735999@balefirewealth.com
SUMMARY:President's Day
DESCRIPTION:
URL:https://balefirewealth.com/event/presidents-day/2027-02-15/
CATEGORIES:Office Closures
END:VEVENT
BEGIN:VEVENT
DTSTART;TZID=America/Chicago:20270402T000000
DTEND;TZID=America/Chicago:20270402T235959
DTSTAMP:20260423T135414
CREATED:20250327T233737Z
LAST-MODIFIED:20250327T233737Z
UID:10004954-1806624000-1806710399@balefirewealth.com
SUMMARY:Good Friday
DESCRIPTION:
URL:https://balefirewealth.com/event/good-friday/2027-04-02/
CATEGORIES:Office Closures
END:VEVENT
BEGIN:VEVENT
DTSTART;TZID=America/Chicago:20270524T000000
DTEND;TZID=America/Chicago:20270524T235959
DTSTAMP:20260423T135414
CREATED:20250327T233812Z
LAST-MODIFIED:20250327T233812Z
UID:10004960-1811116800-1811203199@balefirewealth.com
SUMMARY:Memorial Day
DESCRIPTION:
URL:https://balefirewealth.com/event/memorial-day/2027-05-24/
CATEGORIES:Office Closures
END:VEVENT
BEGIN:VEVENT
DTSTART;TZID=America/Chicago:20270619T000000
DTEND;TZID=America/Chicago:20270619T235959
DTSTAMP:20260423T135414
CREATED:20250327T233914Z
LAST-MODIFIED:20250327T233914Z
UID:10004966-1813363200-1813449599@balefirewealth.com
SUMMARY:Juneteenth National Independence Day
DESCRIPTION:
URL:https://balefirewealth.com/event/juneteenth-national-independence-day/2027-06-19/
CATEGORIES:Office Closures
END:VEVENT
BEGIN:VEVENT
DTSTART;TZID=America/Chicago:20270704T000000
DTEND;TZID=America/Chicago:20270704T235959
DTSTAMP:20260423T135414
CREATED:20250327T234010Z
LAST-MODIFIED:20250327T234010Z
UID:10004972-1814659200-1814745599@balefirewealth.com
SUMMARY:Independence Day
DESCRIPTION:
URL:https://balefirewealth.com/event/independence-day/2027-07-04/
CATEGORIES:Office Closures
END:VEVENT
BEGIN:VEVENT
DTSTART;TZID=America/Chicago:20270906T000000
DTEND;TZID=America/Chicago:20270906T235959
DTSTAMP:20260423T135414
CREATED:20250327T234108Z
LAST-MODIFIED:20250327T234108Z
UID:10004978-1820188800-1820275199@balefirewealth.com
SUMMARY:Labor Day
DESCRIPTION:
URL:https://balefirewealth.com/event/labor-day/2027-09-06/
CATEGORIES:Office Closures
END:VEVENT
BEGIN:VEVENT
DTSTART;TZID=America/Chicago:20271011T000000
DTEND;TZID=America/Chicago:20271011T235959
DTSTAMP:20260423T135414
CREATED:20250327T234144Z
LAST-MODIFIED:20250327T234144Z
UID:10004984-1823212800-1823299199@balefirewealth.com
SUMMARY:Columbus Day
DESCRIPTION:
URL:https://balefirewealth.com/event/columbus-day/2027-10-11/
CATEGORIES:Office Closures
END:VEVENT
BEGIN:VEVENT
DTSTART;TZID=America/Chicago:20271111T000000
DTEND;TZID=America/Chicago:20271111T235959
DTSTAMP:20260423T135414
CREATED:20250327T234249Z
LAST-MODIFIED:20250327T234249Z
UID:10004990-1825891200-1825977599@balefirewealth.com
SUMMARY:Veterans Day
DESCRIPTION:
URL:https://balefirewealth.com/event/veterans-day/2027-11-11/
CATEGORIES:Office Closures
END:VEVENT
BEGIN:VEVENT
DTSTART;TZID=America/Chicago:20271125T000000
DTEND;TZID=America/Chicago:20271125T235959
DTSTAMP:20260423T135414
CREATED:20250327T234325Z
LAST-MODIFIED:20250327T234325Z
UID:10004996-1827100800-1827187199@balefirewealth.com
SUMMARY:Thanksgiving Day
DESCRIPTION:
URL:https://balefirewealth.com/event/thanksgiving-day/2027-11-25/
CATEGORIES:Office Closures
END:VEVENT
BEGIN:VEVENT
DTSTART;TZID=America/Chicago:20271126T000000
DTEND;TZID=America/Chicago:20271126T235959
DTSTAMP:20260423T135414
CREATED:20250327T234433Z
LAST-MODIFIED:20250327T234433Z
UID:10005002-1827187200-1827273599@balefirewealth.com
SUMMARY:Day After Thanksgiving
DESCRIPTION:
URL:https://balefirewealth.com/event/day-after-thanksgiving/2027-11-26/
CATEGORIES:Office Closures
END:VEVENT
BEGIN:VEVENT
DTSTART;TZID=America/Chicago:20271224T000000
DTEND;TZID=America/Chicago:20271224T235959
DTSTAMP:20260423T135414
CREATED:20250327T234532Z
LAST-MODIFIED:20250327T234532Z
UID:10005008-1829606400-1829692799@balefirewealth.com
SUMMARY:Christmas Eve
DESCRIPTION:
URL:https://balefirewealth.com/event/christmas-eve/2027-12-24/
CATEGORIES:Office Closures
END:VEVENT
BEGIN:VEVENT
DTSTART;TZID=America/Chicago:20271225T000000
DTEND;TZID=America/Chicago:20271225T235959
DTSTAMP:20260423T135414
CREATED:20250327T234655Z
LAST-MODIFIED:20250327T234655Z
UID:10005014-1829692800-1829779199@balefirewealth.com
SUMMARY:Christmas Day
DESCRIPTION:
URL:https://balefirewealth.com/event/christmas-day/2027-12-25/
CATEGORIES:Office Closures
END:VEVENT
BEGIN:VEVENT
DTSTART;TZID=America/Chicago:20271231T000000
DTEND;TZID=America/Chicago:20271231T235959
DTSTAMP:20260423T135414
CREATED:20250327T234748Z
LAST-MODIFIED:20250327T234748Z
UID:10005020-1830211200-1830297599@balefirewealth.com
SUMMARY:New Year's Eve
DESCRIPTION:
URL:https://balefirewealth.com/event/new-years-eve/2027-12-31/
CATEGORIES:Office Closures
END:VEVENT
BEGIN:VEVENT
DTSTART;TZID=America/Chicago:20280101T000000
DTEND;TZID=America/Chicago:20280101T235959
DTSTAMP:20260423T135414
CREATED:20250327T221143Z
LAST-MODIFIED:20250327T221143Z
UID:10004935-1830297600-1830383999@balefirewealth.com
SUMMARY:New Year's Day
DESCRIPTION:
URL:https://balefirewealth.com/event/new-years-day/2028-01-01/
CATEGORIES:Office Closures
END:VEVENT
BEGIN:VEVENT
DTSTART;TZID=America/Chicago:20280117T000000
DTEND;TZID=America/Chicago:20280117T235959
DTSTAMP:20260423T135414
CREATED:20250327T221319Z
LAST-MODIFIED:20250327T221319Z
UID:10004942-1831680000-1831766399@balefirewealth.com
SUMMARY:Martin Luther King Jr. Day
DESCRIPTION:
URL:https://balefirewealth.com/event/martin-luther-king-jr-day/2028-01-17/
CATEGORIES:Office Closures
END:VEVENT
BEGIN:VEVENT
DTSTART;TZID=America/Chicago:20280221T000000
DTEND;TZID=America/Chicago:20280221T235959
DTSTAMP:20260423T135414
CREATED:20250327T233700Z
LAST-MODIFIED:20250327T233700Z
UID:10004949-1834704000-1834790399@balefirewealth.com
SUMMARY:President's Day
DESCRIPTION:
URL:https://balefirewealth.com/event/presidents-day/2028-02-21/
CATEGORIES:Office Closures
END:VEVENT
BEGIN:VEVENT
DTSTART;TZID=America/Chicago:20280407T000000
DTEND;TZID=America/Chicago:20280407T235959
DTSTAMP:20260423T135414
CREATED:20250327T233737Z
LAST-MODIFIED:20250327T233737Z
UID:10004955-1838678400-1838764799@balefirewealth.com
SUMMARY:Good Friday
DESCRIPTION:
URL:https://balefirewealth.com/event/good-friday/2028-04-07/
CATEGORIES:Office Closures
END:VEVENT
END:VCALENDAR