BEGIN:VCALENDAR
VERSION:2.0
PRODID:-//Balefire Wealth - ECPv6.15.20//NONSGML v1.0//EN
CALSCALE:GREGORIAN
METHOD:PUBLISH
X-ORIGINAL-URL:https://balefirewealth.com
X-WR-CALDESC:Events for Balefire Wealth
REFRESH-INTERVAL;VALUE=DURATION:PT1H
X-Robots-Tag:noindex
X-PUBLISHED-TTL:PT1H
BEGIN:VTIMEZONE
TZID:America/Chicago
BEGIN:DAYLIGHT
TZOFFSETFROM:-0600
TZOFFSETTO:-0500
TZNAME:CDT
DTSTART:20250309T080000
END:DAYLIGHT
BEGIN:STANDARD
TZOFFSETFROM:-0500
TZOFFSETTO:-0600
TZNAME:CST
DTSTART:20251102T070000
END:STANDARD
BEGIN:DAYLIGHT
TZOFFSETFROM:-0600
TZOFFSETTO:-0500
TZNAME:CDT
DTSTART:20260308T080000
END:DAYLIGHT
BEGIN:STANDARD
TZOFFSETFROM:-0500
TZOFFSETTO:-0600
TZNAME:CST
DTSTART:20261101T070000
END:STANDARD
BEGIN:DAYLIGHT
TZOFFSETFROM:-0600
TZOFFSETTO:-0500
TZNAME:CDT
DTSTART:20270314T080000
END:DAYLIGHT
BEGIN:STANDARD
TZOFFSETFROM:-0500
TZOFFSETTO:-0600
TZNAME:CST
DTSTART:20271107T070000
END:STANDARD
END:VTIMEZONE
BEGIN:VEVENT
DTSTART;TZID=America/Chicago:20260607T000000
DTEND;TZID=America/Chicago:20260607T235959
DTSTAMP:20260425T205149
CREATED:20250311T191648Z
LAST-MODIFIED:20260330T133313Z
UID:10004809-1780790400-1780876799@balefirewealth.com
SUMMARY:Sue Marsh Birthday
DESCRIPTION:Restricted Content\nSorry\, you must log in with the proper credentials to view this content.
URL:https://balefirewealth.com/event/sue-marsh-birthday/2026-06-07/
CATEGORIES:Birthdays
ATTACH;FMTTYPE=image/webp:https://balefirewealth.com/wp-content/uploads/2025/10/marsh-sue.webp
END:VEVENT
BEGIN:VEVENT
DTSTART;TZID=America/Chicago:20260608T000000
DTEND;TZID=America/Chicago:20260608T235959
DTSTAMP:20260425T205149
CREATED:20250311T184312Z
LAST-MODIFIED:20260330T133502Z
UID:10004477-1780876800-1780963199@balefirewealth.com
SUMMARY:Jacki Kolkman Birthday
DESCRIPTION:Restricted Content\nSorry\, you must log in with the proper credentials to view this content.
URL:https://balefirewealth.com/event/jacki-kolkman-birthday/2026-06-08/
CATEGORIES:Birthdays
ATTACH;FMTTYPE=image/webp:https://balefirewealth.com/wp-content/uploads/2025/10/kolkman-jacki.webp
END:VEVENT
BEGIN:VEVENT
DTSTART;TZID=America/Chicago:20260614T000000
DTEND;TZID=America/Chicago:20260614T235959
DTSTAMP:20260425T205149
CREATED:20250311T192447Z
LAST-MODIFIED:20260330T133253Z
UID:10004912-1781395200-1781481599@balefirewealth.com
SUMMARY:Blair Enfield Birthday
DESCRIPTION:Restricted Content\nSorry\, you must log in with the proper credentials to view this content.
URL:https://balefirewealth.com/event/blair-enfield-birthday/2026-06-14/
CATEGORIES:Birthdays
ATTACH;FMTTYPE=image/webp:https://balefirewealth.com/wp-content/uploads/2025/10/enfield-blair.webp
END:VEVENT
BEGIN:VEVENT
DTSTART;TZID=America/Chicago:20260616T000000
DTEND;TZID=America/Chicago:20260616T235959
DTSTAMP:20260425T205149
CREATED:20251213T233015Z
LAST-MODIFIED:20260330T133055Z
UID:10005206-1781568000-1781654399@balefirewealth.com
SUMMARY:Susan Westerholm Birthday
DESCRIPTION:Restricted Content\nSorry\, you must log in with the proper credentials to view this content.
URL:https://balefirewealth.com/event/susan-westerholm-birthday/2026-06-16/
CATEGORIES:Birthdays
ATTACH;FMTTYPE=image/webp:https://balefirewealth.com/wp-content/uploads/2025/12/westerholm-susan.webp
END:VEVENT
BEGIN:VEVENT
DTSTART;TZID=America/Chicago:20260617T000000
DTEND;TZID=America/Chicago:20260617T235959
DTSTAMP:20260425T205149
CREATED:20250609T232000Z
LAST-MODIFIED:20260330T133240Z
UID:10005068-1781654400-1781740799@balefirewealth.com
SUMMARY:Scott Munger Birthday
DESCRIPTION:Restricted Content\nSorry\, you must log in with the proper credentials to view this content.
URL:https://balefirewealth.com/event/scott-munger-birthday/2026-06-17/
CATEGORIES:Birthdays
ATTACH;FMTTYPE=image/webp:https://balefirewealth.com/wp-content/uploads/2026/03/scott-munger-square.webp
END:VEVENT
BEGIN:VEVENT
DTSTART;TZID=America/Chicago:20260618T000000
DTEND;TZID=America/Chicago:20260618T235959
DTSTAMP:20260425T205149
CREATED:20250311T181843Z
LAST-MODIFIED:20260330T133539Z
UID:10004224-1781740800-1781827199@balefirewealth.com
SUMMARY:Ellie Haylund Birthday
DESCRIPTION:Restricted Content\nSorry\, you must log in with the proper credentials to view this content.
URL:https://balefirewealth.com/event/ellie-haylund-birthday/2026-06-18/
CATEGORIES:Birthdays
ATTACH;FMTTYPE=image/webp:https://balefirewealth.com/wp-content/uploads/2025/10/haylund-ellie.webp
END:VEVENT
BEGIN:VEVENT
DTSTART;TZID=America/Chicago:20260620T000000
DTEND;TZID=America/Chicago:20260620T235959
DTSTAMP:20260425T205149
CREATED:20250311T191951Z
LAST-MODIFIED:20260330T133304Z
UID:10004841-1781913600-1781999999@balefirewealth.com
SUMMARY:Vanessa Spenard Birthday
DESCRIPTION:Restricted Content\nSorry\, you must log in with the proper credentials to view this content.
URL:https://balefirewealth.com/event/vanessa-spenard-birthday/2026-06-20/
CATEGORIES:Birthdays
ATTACH;FMTTYPE=image/webp:https://balefirewealth.com/wp-content/uploads/2025/10/spenard-vanessa.webp
END:VEVENT
BEGIN:VEVENT
DTSTART;TZID=America/Chicago:20260623T000000
DTEND;TZID=America/Chicago:20260623T235959
DTSTAMP:20260425T205149
CREATED:20250308T211709Z
LAST-MODIFIED:20260330T133714Z
UID:10003940-1782172800-1782259199@balefirewealth.com
SUMMARY:Alana Tallarico Birthday
DESCRIPTION:Restricted Content\nSorry\, you must log in with the proper credentials to view this content.
URL:https://balefirewealth.com/event/alana-tallarico-birthday/2026-06-23/
CATEGORIES:Birthdays
ATTACH;FMTTYPE=image/webp:https://balefirewealth.com/wp-content/uploads/2025/10/tallarico-alana.webp
END:VEVENT
BEGIN:VEVENT
DTSTART;TZID=America/Chicago:20260625T000000
DTEND;TZID=America/Chicago:20260625T235959
DTSTAMP:20260425T205149
CREATED:20250311T172108Z
LAST-MODIFIED:20260330T133708Z
UID:10003960-1782345600-1782431999@balefirewealth.com
SUMMARY:Amber Rogers Birthday
DESCRIPTION:Restricted Content\nSorry\, you must log in with the proper credentials to view this content.
URL:https://balefirewealth.com/event/amber-rogers-birthday/2026-06-25/
CATEGORIES:Birthdays
ATTACH;FMTTYPE=image/webp:https://balefirewealth.com/wp-content/uploads/2026/03/amber-rogers-centered-square.webp
END:VEVENT
BEGIN:VEVENT
DTSTART;TZID=America/Chicago:20260705T000000
DTEND;TZID=America/Chicago:20260705T235959
DTSTAMP:20260425T205149
CREATED:20250311T192119Z
LAST-MODIFIED:20260330T133300Z
UID:10004856-1783209600-1783295999@balefirewealth.com
SUMMARY:Veronica Germann Birthday
DESCRIPTION:Restricted Content\nSorry\, you must log in with the proper credentials to view this content.
URL:https://balefirewealth.com/event/veronica-germann-birthday/2026-07-05/
CATEGORIES:Birthdays
ATTACH;FMTTYPE=image/webp:https://balefirewealth.com/wp-content/uploads/2026/03/veronica-germann-square.webp
END:VEVENT
BEGIN:VEVENT
DTSTART;TZID=America/Chicago:20260712T000000
DTEND;TZID=America/Chicago:20260712T235959
DTSTAMP:20260425T205149
CREATED:20250311T175622Z
LAST-MODIFIED:20260330T133653Z
UID:10004062-1783814400-1783900799@balefirewealth.com
SUMMARY:Brittany Collier Birthday
DESCRIPTION:Restricted Content\nSorry\, you must log in with the proper credentials to view this content.
URL:https://balefirewealth.com/event/brittany-collier-birthday/2026-07-12/
CATEGORIES:Birthdays
ATTACH;FMTTYPE=image/webp:https://balefirewealth.com/wp-content/uploads/2025/10/collier-brittany.webp
END:VEVENT
BEGIN:VEVENT
DTSTART;TZID=America/Chicago:20260713T000000
DTEND;TZID=America/Chicago:20260713T235959
DTSTAMP:20260425T205149
CREATED:20250311T173321Z
LAST-MODIFIED:20260330T133702Z
UID:10004013-1783900800-1783987199@balefirewealth.com
SUMMARY:Austin Vanhove Birthday
DESCRIPTION:Restricted Content\nSorry\, you must log in with the proper credentials to view this content.
URL:https://balefirewealth.com/event/austin-vanhove-birthday/2026-07-13/
CATEGORIES:Birthdays
ATTACH;FMTTYPE=image/webp:https://balefirewealth.com/wp-content/uploads/2025/10/vanhove-austin.webp
END:VEVENT
BEGIN:VEVENT
DTSTART;TZID=America/Chicago:20260723T000000
DTEND;TZID=America/Chicago:20260723T235959
DTSTAMP:20260425T205149
CREATED:20241024T020515Z
LAST-MODIFIED:20260330T133717Z
UID:10003914-1784764800-1784851199@balefirewealth.com
SUMMARY:Stephanie Elton Birthday
DESCRIPTION:Restricted Content\nSorry\, you must log in with the proper credentials to view this content.
URL:https://balefirewealth.com/event/stephanie-elton-birthday/2026-07-23/
CATEGORIES:Birthdays
ATTACH;FMTTYPE=image/webp:https://balefirewealth.com/wp-content/uploads/2025/10/elton-stephanie.webp
END:VEVENT
BEGIN:VEVENT
DTSTART;TZID=America/Chicago:20260822T000000
DTEND;TZID=America/Chicago:20260822T235959
DTSTAMP:20260425T205149
CREATED:20250311T175208Z
LAST-MODIFIED:20260330T133659Z
UID:10004026-1787356800-1787443199@balefirewealth.com
SUMMARY:Brad Neugebauer Birthday
DESCRIPTION:Restricted Content\nSorry\, you must log in with the proper credentials to view this content.
URL:https://balefirewealth.com/event/brad-neugebauer-birthday/2026-08-22/
CATEGORIES:Birthdays
ATTACH;FMTTYPE=image/webp:https://balefirewealth.com/wp-content/uploads/2026/03/brad-neugebauer-square.webp
END:VEVENT
BEGIN:VEVENT
DTSTART;TZID=America/Chicago:20260823T000000
DTEND;TZID=America/Chicago:20260823T235959
DTSTAMP:20260425T205149
CREATED:20250311T191817Z
LAST-MODIFIED:20260330T133309Z
UID:10004825-1787443200-1787529599@balefirewealth.com
SUMMARY:Tom Hannon Birthday
DESCRIPTION:Restricted Content\nSorry\, you must log in with the proper credentials to view this content.
URL:https://balefirewealth.com/event/tom-hannon-birthday/2026-08-23/
CATEGORIES:Birthdays
ATTACH;FMTTYPE=image/webp:https://balefirewealth.com/wp-content/uploads/2025/10/hannon-tom.webp
END:VEVENT
BEGIN:VEVENT
DTSTART;TZID=America/Chicago:20260830T000000
DTEND;TZID=America/Chicago:20260830T235959
DTSTAMP:20260425T205149
CREATED:20250311T180018Z
LAST-MODIFIED:20260330T133647Z
UID:10004088-1788048000-1788134399@balefirewealth.com
SUMMARY:Charlene Smith Birthday
DESCRIPTION:Restricted Content\nSorry\, you must log in with the proper credentials to view this content.
URL:https://balefirewealth.com/event/charlene-smith-birthday/2026-08-30/
CATEGORIES:Birthdays
ATTACH;FMTTYPE=image/webp:https://balefirewealth.com/wp-content/uploads/2025/10/smith-charlene.webp
END:VEVENT
BEGIN:VEVENT
DTSTART;TZID=America/Chicago:20260903T000000
DTEND;TZID=America/Chicago:20260903T235959
DTSTAMP:20260425T205149
CREATED:20251213T231855Z
LAST-MODIFIED:20260330T133113Z
UID:10005154-1788393600-1788479999@balefirewealth.com
SUMMARY:Jordan Maruszak Birthday
DESCRIPTION:Restricted Content\nSorry\, you must log in with the proper credentials to view this content.
URL:https://balefirewealth.com/event/jordan-maruszak-birthday/2026-09-03/
CATEGORIES:Birthdays
ATTACH;FMTTYPE=image/webp:https://balefirewealth.com/wp-content/uploads/2026/03/maruszak-jordan.webp
END:VEVENT
BEGIN:VEVENT
DTSTART;TZID=America/Chicago:20260905T000000
DTEND;TZID=America/Chicago:20260905T235959
DTSTAMP:20260425T205149
CREATED:20250311T184645Z
LAST-MODIFIED:20260330T133455Z
UID:10004509-1788566400-1788652799@balefirewealth.com
SUMMARY:James Mars Birthday
DESCRIPTION:Restricted Content\nSorry\, you must log in with the proper credentials to view this content.
URL:https://balefirewealth.com/event/james-mars-birthday/2026-09-05/
CATEGORIES:Birthdays
ATTACH;FMTTYPE=image/webp:https://balefirewealth.com/wp-content/uploads/2025/10/mars-jim.webp
END:VEVENT
BEGIN:VEVENT
DTSTART;TZID=America/Chicago:20260909T080000
DTEND;TZID=America/Chicago:20260909T170000
DTSTAMP:20260425T205149
CREATED:20250311T172546Z
LAST-MODIFIED:20260330T133705Z
UID:10003987-1788940800-1788973200@balefirewealth.com
SUMMARY:Amy Batta Birthday
DESCRIPTION:Restricted Content\nSorry\, you must log in with the proper credentials to view this content.
URL:https://balefirewealth.com/event/amy-batta-birthday/2026-09-09/
CATEGORIES:Birthdays
ATTACH;FMTTYPE=image/webp:https://balefirewealth.com/wp-content/uploads/2026/03/amy-batta-square.webp
END:VEVENT
BEGIN:VEVENT
DTSTART;TZID=America/Chicago:20260917T000000
DTEND;TZID=America/Chicago:20260917T235959
DTSTAMP:20260425T205149
CREATED:20250311T182219Z
LAST-MODIFIED:20260330T133533Z
UID:10004256-1789603200-1789689599@balefirewealth.com
SUMMARY:Erica Sutphin Birthday
DESCRIPTION:Restricted Content\nSorry\, you must log in with the proper credentials to view this content.
URL:https://balefirewealth.com/event/erica-sutphin-birthday/2026-09-17/
CATEGORIES:Birthdays
ATTACH;FMTTYPE=image/webp:https://balefirewealth.com/wp-content/uploads/2026/03/erica-sutphin-square.webp
END:VEVENT
BEGIN:VEVENT
DTSTART;TZID=America/Chicago:20260919T000000
DTEND;TZID=America/Chicago:20260919T235959
DTSTAMP:20260425T205149
CREATED:20250311T183514Z
LAST-MODIFIED:20260330T133514Z
UID:10004421-1789776000-1789862399@balefirewealth.com
SUMMARY:Greg Trump Birthday
DESCRIPTION:Restricted Content\nSorry\, you must log in with the proper credentials to view this content.
URL:https://balefirewealth.com/event/greg-trump-birthday/2026-09-19/
CATEGORIES:Birthdays
ATTACH;FMTTYPE=image/webp:https://balefirewealth.com/wp-content/uploads/2026/03/greg-trump-square.webp
END:VEVENT
BEGIN:VEVENT
DTSTART;TZID=America/Chicago:20260921T000000
DTEND;TZID=America/Chicago:20260921T235959
DTSTAMP:20260425T205149
CREATED:20250311T190055Z
LAST-MODIFIED:20260330T133337Z
UID:10004665-1789948800-1790035199@balefirewealth.com
SUMMARY:Mark Oswald Birthday
DESCRIPTION:Restricted Content\nSorry\, you must log in with the proper credentials to view this content.
URL:https://balefirewealth.com/event/mark-oswald-birthday/2026-09-21/
CATEGORIES:Birthdays
ATTACH;FMTTYPE=image/webp:https://balefirewealth.com/wp-content/uploads/2026/03/mark-oswald-square.webp
END:VEVENT
BEGIN:VEVENT
DTSTART;TZID=America/Chicago:20260923T000000
DTEND;TZID=America/Chicago:20260923T235959
DTSTAMP:20260425T205149
CREATED:20250311T180211Z
LAST-MODIFIED:20260330T133644Z
UID:10004104-1790121600-1790207999@balefirewealth.com
SUMMARY:Chris Tipton Birthday
DESCRIPTION:Restricted Content\nSorry\, you must log in with the proper credentials to view this content.
URL:https://balefirewealth.com/event/chris-tipton-birthday/2026-09-23/
CATEGORIES:Birthdays
ATTACH;FMTTYPE=image/webp:https://balefirewealth.com/wp-content/uploads/2025/10/tipton-chris.webp
END:VEVENT
BEGIN:VEVENT
DTSTART;TZID=America/Chicago:20260927T000000
DTEND;TZID=America/Chicago:20260927T235959
DTSTAMP:20260425T205149
CREATED:20250311T181645Z
LAST-MODIFIED:20260330T133541Z
UID:10004211-1790467200-1790553599@balefirewealth.com
SUMMARY:Dustin Haraway Birthday
DESCRIPTION:Restricted Content\nSorry\, you must log in with the proper credentials to view this content.
URL:https://balefirewealth.com/event/dustin-haraway-birthday/2026-09-27/
CATEGORIES:Birthdays
ATTACH;FMTTYPE=image/webp:https://balefirewealth.com/wp-content/uploads/2026/03/dustin-haraway-square-centered.webp
END:VEVENT
BEGIN:VEVENT
DTSTART;TZID=America/Chicago:20261002T000000
DTEND;TZID=America/Chicago:20261002T235959
DTSTAMP:20260425T205149
CREATED:20250311T183236Z
LAST-MODIFIED:20260330T133521Z
UID:10004378-1790899200-1790985599@balefirewealth.com
SUMMARY:Jason Hester Birthday
DESCRIPTION:Restricted Content\nSorry\, you must log in with the proper credentials to view this content.
URL:https://balefirewealth.com/event/jason-hester-birthday/2026-10-02/
CATEGORIES:Birthdays
ATTACH;FMTTYPE=image/webp:https://balefirewealth.com/wp-content/uploads/2025/10/hester-jason.webp
END:VEVENT
BEGIN:VEVENT
DTSTART;TZID=America/Chicago:20261005T000000
DTEND;TZID=America/Chicago:20261005T235959
DTSTAMP:20260425T205149
CREATED:20260226T001230Z
LAST-MODIFIED:20260330T133014Z
UID:10005256-1791158400-1791244799@balefirewealth.com
SUMMARY:John Bullman Birthday
DESCRIPTION:Restricted Content\nSorry\, you must log in with the proper credentials to view this content.
URL:https://balefirewealth.com/event/john-bullman-birthday/2026-10-05/
CATEGORIES:Birthdays
ATTACH;FMTTYPE=image/webp:https://balefirewealth.com/wp-content/uploads/2026/03/bullman-john.webp
END:VEVENT
BEGIN:VEVENT
DTSTART;TZID=America/Chicago:20261012T000000
DTEND;TZID=America/Chicago:20261012T235959
DTSTAMP:20260425T205149
CREATED:20250311T191155Z
LAST-MODIFIED:20260330T133324Z
UID:10004739-1791763200-1791849599@balefirewealth.com
SUMMARY:Scott Bradbury Birthday
DESCRIPTION:Restricted Content\nSorry\, you must log in with the proper credentials to view this content.
URL:https://balefirewealth.com/event/scott-bradbury-birthday/2026-10-12/
CATEGORIES:Birthdays
ATTACH;FMTTYPE=image/webp:https://balefirewealth.com/wp-content/uploads/2026/03/scott-bradbury-square.webp
END:VEVENT
BEGIN:VEVENT
DTSTART;TZID=America/Chicago:20261013T000000
DTEND;TZID=America/Chicago:20261013T235959
DTSTAMP:20260425T205149
CREATED:20250311T184952Z
LAST-MODIFIED:20260330T133356Z
UID:10004545-1791849600-1791935999@balefirewealth.com
SUMMARY:Julie Lang Birthday
DESCRIPTION:Restricted Content\nSorry\, you must log in with the proper credentials to view this content.
URL:https://balefirewealth.com/event/julie-lang-birthday/2026-10-13/
CATEGORIES:Birthdays
ATTACH;FMTTYPE=image/webp:https://balefirewealth.com/wp-content/uploads/2025/10/lang-julie.webp
END:VEVENT
BEGIN:VEVENT
DTSTART;TZID=America/Chicago:20261027T000000
DTEND;TZID=America/Chicago:20261027T235959
DTSTAMP:20260425T205149
CREATED:20250311T185252Z
LAST-MODIFIED:20260330T133353Z
UID:10004580-1793059200-1793145599@balefirewealth.com
SUMMARY:Katie Enloe Birthday
DESCRIPTION:Restricted Content\nSorry\, you must log in with the proper credentials to view this content.
URL:https://balefirewealth.com/event/katie-enloe-birthday/2026-10-27/
CATEGORIES:Birthdays
ATTACH;FMTTYPE=image/webp:https://balefirewealth.com/wp-content/uploads/2025/10/enloe-katie.webp
END:VEVENT
BEGIN:VEVENT
DTSTART;TZID=America/Chicago:20261104T000000
DTEND;TZID=America/Chicago:20261104T235959
DTSTAMP:20260425T205149
CREATED:20251213T232301Z
LAST-MODIFIED:20260330T133103Z
UID:10005170-1793750400-1793836799@balefirewealth.com
SUMMARY:Evan Cozzi Birthday
DESCRIPTION:Restricted Content\nSorry\, you must log in with the proper credentials to view this content.
URL:https://balefirewealth.com/event/evan-cozzi-birthday/2026-11-04/
CATEGORIES:Birthdays
ATTACH;FMTTYPE=image/webp:https://balefirewealth.com/wp-content/uploads/2025/12/cozzi-evan.webp
END:VEVENT
END:VCALENDAR