BEGIN:VCALENDAR
VERSION:2.0
PRODID:-//Balefire Wealth - ECPv6.15.20//NONSGML v1.0//EN
CALSCALE:GREGORIAN
METHOD:PUBLISH
X-ORIGINAL-URL:https://balefirewealth.com
X-WR-CALDESC:Events for Balefire Wealth
REFRESH-INTERVAL;VALUE=DURATION:PT1H
X-Robots-Tag:noindex
X-PUBLISHED-TTL:PT1H
BEGIN:VTIMEZONE
TZID:America/Chicago
BEGIN:DAYLIGHT
TZOFFSETFROM:-0600
TZOFFSETTO:-0500
TZNAME:CDT
DTSTART:20250309T080000
END:DAYLIGHT
BEGIN:STANDARD
TZOFFSETFROM:-0500
TZOFFSETTO:-0600
TZNAME:CST
DTSTART:20251102T070000
END:STANDARD
BEGIN:DAYLIGHT
TZOFFSETFROM:-0600
TZOFFSETTO:-0500
TZNAME:CDT
DTSTART:20260308T080000
END:DAYLIGHT
BEGIN:STANDARD
TZOFFSETFROM:-0500
TZOFFSETTO:-0600
TZNAME:CST
DTSTART:20261101T070000
END:STANDARD
BEGIN:DAYLIGHT
TZOFFSETFROM:-0600
TZOFFSETTO:-0500
TZNAME:CDT
DTSTART:20270314T080000
END:DAYLIGHT
BEGIN:STANDARD
TZOFFSETFROM:-0500
TZOFFSETTO:-0600
TZNAME:CST
DTSTART:20271107T070000
END:STANDARD
END:VTIMEZONE
BEGIN:VEVENT
DTSTART;TZID=America/Chicago:20260508T000000
DTEND;TZID=America/Chicago:20260508T235959
DTSTAMP:20260421T081116
CREATED:20250311T182540Z
LAST-MODIFIED:20260330T133530Z
UID:10004273-1778198400-1778284799@balefirewealth.com
SUMMARY:Erika Wood Birthday
DESCRIPTION:Restricted Content\nSorry\, you must log in with the proper credentials to view this content.
URL:https://balefirewealth.com/event/erika-wood-birthday/2026-05-08/
CATEGORIES:Birthdays
ATTACH;FMTTYPE=image/webp:https://balefirewealth.com/wp-content/uploads/2025/10/wood-erika.webp
END:VEVENT
BEGIN:VEVENT
DTSTART;TZID=America/Chicago:20260511T000000
DTEND;TZID=America/Chicago:20260511T235959
DTSTAMP:20260421T081116
CREATED:20250311T185744Z
LAST-MODIFIED:20260330T133344Z
UID:10004631-1778457600-1778543999@balefirewealth.com
SUMMARY:Lindsey Gresham Birthday
DESCRIPTION:Restricted Content\nSorry\, you must log in with the proper credentials to view this content.
URL:https://balefirewealth.com/event/lindsey-gresham-birthday/2026-05-11/
CATEGORIES:Birthdays
ATTACH;FMTTYPE=image/webp:https://balefirewealth.com/wp-content/uploads/2025/10/gresham-lindsey.webp
END:VEVENT
BEGIN:VEVENT
DTSTART;TZID=America/Chicago:20260514T000000
DTEND;TZID=America/Chicago:20260514T235959
DTSTAMP:20260421T081116
CREATED:20250416T041250Z
LAST-MODIFIED:20260330T133244Z
UID:10004000-1778716800-1778803199@balefirewealth.com
SUMMARY:Ashton Hoffman Birthday
DESCRIPTION:Restricted Content\nSorry\, you must log in with the proper credentials to view this content.
URL:https://balefirewealth.com/event/ashton-hoffman-birthday/2026-05-14/
CATEGORIES:Birthdays
ATTACH;FMTTYPE=image/webp:https://balefirewealth.com/wp-content/uploads/2025/10/hoffman-ashton.webp
END:VEVENT
BEGIN:VEVENT
DTSTART;TZID=America/Chicago:20260522T000000
DTEND;TZID=America/Chicago:20260522T235959
DTSTAMP:20260421T081116
CREATED:20250311T182037Z
LAST-MODIFIED:20260330T133536Z
UID:10004241-1779408000-1779494399@balefirewealth.com
SUMMARY:Emory Smith Birthday
DESCRIPTION:Restricted Content\nSorry\, you must log in with the proper credentials to view this content.
URL:https://balefirewealth.com/event/emory-smith-birthday/2026-05-22/
CATEGORIES:Birthdays
ATTACH;FMTTYPE=image/webp:https://balefirewealth.com/wp-content/uploads/2026/03/emory-smith-square.webp
END:VEVENT
BEGIN:VEVENT
DTSTART;TZID=America/Chicago:20260523T000000
DTEND;TZID=America/Chicago:20260523T235959
DTSTAMP:20260421T081116
CREATED:20250311T180803Z
LAST-MODIFIED:20260330T133553Z
UID:10004165-1779494400-1779580799@balefirewealth.com
SUMMARY:Dalton Richards Birthday
DESCRIPTION:Restricted Content\nSorry\, you must log in with the proper credentials to view this content.
URL:https://balefirewealth.com/event/dalton-richards-birthday/2026-05-23/
CATEGORIES:Birthdays
ATTACH;FMTTYPE=image/webp:https://balefirewealth.com/wp-content/uploads/2026/03/dalton-richards-square.webp
END:VEVENT
BEGIN:VEVENT
DTSTART;TZID=America/Chicago:20260524T000000
DTEND;TZID=America/Chicago:20260524T235959
DTSTAMP:20260421T081116
CREATED:20250311T182722Z
LAST-MODIFIED:20260330T133527Z
UID:10004289-1779580800-1779667199@balefirewealth.com
SUMMARY:Erin Ovre Birthday
DESCRIPTION:Restricted Content\nSorry\, you must log in with the proper credentials to view this content.
URL:https://balefirewealth.com/event/erin-ovre-birthday/2026-05-24/
CATEGORIES:Birthdays
ATTACH;FMTTYPE=image/webp:https://balefirewealth.com/wp-content/uploads/2025/10/ovre-erin.webp
END:VEVENT
BEGIN:VEVENT
DTSTART;TZID=America/Chicago:20260525T000000
DTEND;TZID=America/Chicago:20260525T235959
DTSTAMP:20260421T081116
CREATED:20250311T175823Z
LAST-MODIFIED:20260330T133650Z
UID:10004075-1779667200-1779753599@balefirewealth.com
SUMMARY:Chad Slotta Birthday
DESCRIPTION:Restricted Content\nSorry\, you must log in with the proper credentials to view this content.
URL:https://balefirewealth.com/event/chad-slotta-birthday/2026-05-25/
CATEGORIES:Birthdays
ATTACH;FMTTYPE=image/webp:https://balefirewealth.com/wp-content/uploads/2025/10/slotta-chad.webp
END:VEVENT
END:VCALENDAR