BEGIN:VCALENDAR
VERSION:2.0
PRODID:-//Balefire Wealth - ECPv6.15.20//NONSGML v1.0//EN
CALSCALE:GREGORIAN
METHOD:PUBLISH
X-WR-CALNAME:Balefire Wealth
X-ORIGINAL-URL:https://balefirewealth.com
X-WR-CALDESC:Events for Balefire Wealth
REFRESH-INTERVAL;VALUE=DURATION:PT1H
X-Robots-Tag:noindex
X-PUBLISHED-TTL:PT1H
BEGIN:VTIMEZONE
TZID:America/Chicago
BEGIN:DAYLIGHT
TZOFFSETFROM:-0600
TZOFFSETTO:-0500
TZNAME:CDT
DTSTART:20250309T080000
END:DAYLIGHT
BEGIN:STANDARD
TZOFFSETFROM:-0500
TZOFFSETTO:-0600
TZNAME:CST
DTSTART:20251102T070000
END:STANDARD
BEGIN:DAYLIGHT
TZOFFSETFROM:-0600
TZOFFSETTO:-0500
TZNAME:CDT
DTSTART:20260308T080000
END:DAYLIGHT
BEGIN:STANDARD
TZOFFSETFROM:-0500
TZOFFSETTO:-0600
TZNAME:CST
DTSTART:20261101T070000
END:STANDARD
BEGIN:DAYLIGHT
TZOFFSETFROM:-0600
TZOFFSETTO:-0500
TZNAME:CDT
DTSTART:20270314T080000
END:DAYLIGHT
BEGIN:STANDARD
TZOFFSETFROM:-0500
TZOFFSETTO:-0600
TZNAME:CST
DTSTART:20271107T070000
END:STANDARD
END:VTIMEZONE
BEGIN:VEVENT
DTSTART;TZID=America/Chicago:20260430T000000
DTEND;TZID=America/Chicago:20260504T235959
DTSTAMP:20260421T133120
CREATED:20260320T020103Z
LAST-MODIFIED:20260320T020103Z
UID:10005303-1777507200-1777939199@balefirewealth.com
SUMMARY:Susan Westerholm Out of Office (04/30/2026)
DESCRIPTION:Susan Westerholm will be out of the office from 04/30/2026 to 05/04/2026.
URL:https://balefirewealth.com/event/susan-westerholm-out-of-office-04-30-2026/
CATEGORIES:Out of Office
END:VEVENT
END:VCALENDAR